BEGIN:VCALENDAR
VERSION:2.0
PRODID:-//uppcdm - ECPv6.15.20//NONSGML v1.0//EN
CALSCALE:GREGORIAN
METHOD:PUBLISH
X-ORIGINAL-URL:https://uppcdm.org
X-WR-CALDESC:Events for uppcdm
REFRESH-INTERVAL;VALUE=DURATION:PT1H
X-Robots-Tag:noindex
X-PUBLISHED-TTL:PT1H
BEGIN:VTIMEZONE
TZID:UTC
BEGIN:STANDARD
TZOFFSETFROM:+0000
TZOFFSETTO:+0000
TZNAME:UTC
DTSTART:20250101T000000
END:STANDARD
END:VTIMEZONE
BEGIN:VEVENT
DTSTART;VALUE=DATE:20260330
DTEND;VALUE=DATE:20260331
DTSTAMP:20260423T221551
CREATED:20260203T164950Z
LAST-MODIFIED:20260203T164950Z
UID:1450-1774828800-1774915199@uppcdm.org
SUMMARY:Monday of Holy Week
DESCRIPTION:
URL:https://uppcdm.org/event/monday-of-holy-week/
END:VEVENT
BEGIN:VEVENT
DTSTART;VALUE=DATE:20260331
DTEND;VALUE=DATE:20260401
DTSTAMP:20260423T221551
CREATED:20260203T165113Z
LAST-MODIFIED:20260203T165224Z
UID:1452-1774915200-1775001599@uppcdm.org
SUMMARY:Tuesday of Holy Week
DESCRIPTION:
URL:https://uppcdm.org/event/tuesday-of-holy-week/
END:VEVENT
BEGIN:VEVENT
DTSTART;VALUE=DATE:20260401
DTEND;VALUE=DATE:20260402
DTSTAMP:20260423T221551
CREATED:20260303T180448Z
LAST-MODIFIED:20260303T180448Z
UID:1601-1775001600-1775087999@uppcdm.org
SUMMARY:Wednesday of Holy Week
DESCRIPTION:
URL:https://uppcdm.org/event/wednesday-of-holy-week/
END:VEVENT
BEGIN:VEVENT
DTSTART;VALUE=DATE:20260401
DTEND;VALUE=DATE:20260402
DTSTAMP:20260423T221551
CREATED:20260401T164322Z
LAST-MODIFIED:20260401T164322Z
UID:1736-1775001600-1775087999@uppcdm.org
SUMMARY:Ascension of the Lord
DESCRIPTION:
URL:https://uppcdm.org/event/ascension-of-the-lord/
END:VEVENT
BEGIN:VEVENT
DTSTART;TZID=UTC:20260401T090000
DTEND;TZID=UTC:20260401T110000
DTSTAMP:20260423T221551
CREATED:20260218T161902Z
LAST-MODIFIED:20260218T161902Z
UID:1541-1775034000-1775041200@uppcdm.org
SUMMARY:Coffee Fellowship
DESCRIPTION:
URL:https://uppcdm.org/event/coffee-fellowship-66/
LOCATION:Union Park Presbyterian Church Fellowship Hall\, 1307 Thompson Ave.\, Des Moines\, Iowa
END:VEVENT
BEGIN:VEVENT
DTSTART;TZID=UTC:20260401T090000
DTEND;TZID=UTC:20260401T130000
DTSTAMP:20260423T221551
CREATED:20260318T150817Z
LAST-MODIFIED:20260318T150817Z
UID:1660-1775034000-1775048400@uppcdm.org
SUMMARY:Office Open
DESCRIPTION:
URL:https://uppcdm.org/event/office-open-5/
LOCATION:Union Park Presbyterian Church\, 1307 Thompson Ave.\, Des Moines\, Iowa
ORGANIZER;CN="Dorothy Quartey":MAILTO:office.uppc@gmail.com
END:VEVENT
BEGIN:VEVENT
DTSTART;TZID=UTC:20260401T123000
DTEND;TZID=UTC:20260401T140000
DTSTAMP:20260423T221551
CREATED:20260218T162356Z
LAST-MODIFIED:20260303T180539Z
UID:1543-1775046600-1775052000@uppcdm.org
SUMMARY:Presbyterian Women Meeting
DESCRIPTION:
URL:https://uppcdm.org/event/presbyterian-women-meeting-2/
LOCATION:Union Park Presbyterian Church Fellowship Hall\, 1307 Thompson Ave.\, Des Moines\, Iowa
END:VEVENT
BEGIN:VEVENT
DTSTART;VALUE=DATE:20260402
DTEND;VALUE=DATE:20260403
DTSTAMP:20260423T221551
CREATED:20260303T180726Z
LAST-MODIFIED:20260303T180726Z
UID:1603-1775088000-1775174399@uppcdm.org
SUMMARY:Maundy Thursday
DESCRIPTION:
URL:https://uppcdm.org/event/maundy-thursday/
END:VEVENT
BEGIN:VEVENT
DTSTART;TZID=UTC:20260402T123000
DTEND;TZID=UTC:20260402T133000
DTSTAMP:20260423T221551
CREATED:20260304T151409Z
LAST-MODIFIED:20260304T151409Z
UID:1639-1775133000-1775136600@uppcdm.org
SUMMARY:Bible Study
DESCRIPTION:Come and get a clearer understanding of what you are reading. You’ll enjoy it\, praise be to God!
URL:https://uppcdm.org/event/bible-study-11/
LOCATION:UPPC Meeting Room
END:VEVENT
BEGIN:VEVENT
DTSTART;TZID=UTC:20260402T180000
DTEND;TZID=UTC:20260402T200000
DTSTAMP:20260423T221551
CREATED:20260218T162618Z
LAST-MODIFIED:20260325T143014Z
UID:1546-1775152800-1775160000@uppcdm.org
SUMMARY:Maundy Thursday @ Grimes First Presbyterian Church
DESCRIPTION:A Celebration of the Last Supper! \nSliders & Soup Supper Following Service\, Join us!
URL:https://uppcdm.org/event/maundy-thursday-grimes-first-presbyterian-church/
END:VEVENT
BEGIN:VEVENT
DTSTART;VALUE=DATE:20260403
DTEND;VALUE=DATE:20260404
DTSTAMP:20260423T221551
CREATED:20260301T161356Z
LAST-MODIFIED:20260301T161356Z
UID:1561-1775174400-1775260799@uppcdm.org
SUMMARY:Good Friday
DESCRIPTION:
URL:https://uppcdm.org/event/good-friday/
END:VEVENT
BEGIN:VEVENT
DTSTART;VALUE=DATE:20260404
DTEND;VALUE=DATE:20260405
DTSTAMP:20260423T221551
CREATED:20260301T161507Z
LAST-MODIFIED:20260301T161507Z
UID:1563-1775260800-1775347199@uppcdm.org
SUMMARY:Great Vigil of Easter
DESCRIPTION:
URL:https://uppcdm.org/event/great-vigil-of-easter/
END:VEVENT
BEGIN:VEVENT
DTSTART;TZID=UTC:20260404T100000
DTEND;TZID=UTC:20260404T140000
DTSTAMP:20260423T221551
CREATED:20260301T160943Z
LAST-MODIFIED:20260301T160943Z
UID:1554-1775296800-1775311200@uppcdm.org
SUMMARY:CIACUG Office Open
DESCRIPTION:
URL:https://uppcdm.org/event/ciacug-office-open-29/
LOCATION:3rd Floor Meeting Room\, 1307 Thompson Avenue\, Des Moines\, Iowa\, 50316\, United States
END:VEVENT
BEGIN:VEVENT
DTSTART;VALUE=DATE:20260405
DTEND;VALUE=DATE:20260406
DTSTAMP:20260423T221551
CREATED:20260301T162046Z
LAST-MODIFIED:20260301T162046Z
UID:1566-1775347200-1775433599@uppcdm.org
SUMMARY:Resurrection of the Lord /Easter Day
DESCRIPTION:
URL:https://uppcdm.org/event/resurrection-of-the-lord-easter-day/
END:VEVENT
BEGIN:VEVENT
DTSTART;TZID=UTC:20260405T090000
DTEND;TZID=UTC:20260405T100000
DTSTAMP:20260423T221551
CREATED:20260303T181424Z
LAST-MODIFIED:20260303T182015Z
UID:1605-1775379600-1775383200@uppcdm.org
SUMMARY:Easter Sunday Brunch
DESCRIPTION:Join us for Brunch and A Celebration of Holy Communion! A Celebration of Jesus Christ!
URL:https://uppcdm.org/event/easter-sunday-brunch/
LOCATION:Union Park Presbyterian Church Fellowship Hall\, 1307 Thompson Ave.\, Des Moines\, Iowa
ORGANIZER;CN="Worship & Nurture Committee":MAILTO:office.uppc@gmail.com
END:VEVENT
BEGIN:VEVENT
DTSTART;TZID=UTC:20260405T110000
DTEND;TZID=UTC:20260405T120000
DTSTAMP:20260423T221551
CREATED:20260301T162845Z
LAST-MODIFIED:20260301T162845Z
UID:1575-1775386800-1775390400@uppcdm.org
SUMMARY:Easter Service with Communion
DESCRIPTION:
URL:https://uppcdm.org/event/easter-service-with-communion/
LOCATION:Sanctuary
END:VEVENT
BEGIN:VEVENT
DTSTART;TZID=UTC:20260405T120000
DTEND;TZID=UTC:20260405T130000
DTSTAMP:20260423T221551
CREATED:20260303T174452Z
LAST-MODIFIED:20260303T174452Z
UID:1579-1775390400-1775394000@uppcdm.org
SUMMARY:Coffee/ Fellowship
DESCRIPTION:
URL:https://uppcdm.org/event/coffee-fellowship-67/
END:VEVENT
BEGIN:VEVENT
DTSTART;TZID=UTC:20260408T090000
DTEND;TZID=UTC:20260408T110000
DTSTAMP:20260423T221551
CREATED:20260303T182317Z
LAST-MODIFIED:20260303T182317Z
UID:1610-1775638800-1775646000@uppcdm.org
SUMMARY:Coffee/Fellowship
DESCRIPTION:Join our men for Coffee and Donuts
URL:https://uppcdm.org/event/coffee-fellowship-72/
LOCATION:Union Park Presbyterian Church Fellowship Hall\, 1307 Thompson Ave.\, Des Moines\, Iowa
END:VEVENT
BEGIN:VEVENT
DTSTART;TZID=UTC:20260408T090000
DTEND;TZID=UTC:20260408T130000
DTSTAMP:20260423T221551
CREATED:20260318T150912Z
LAST-MODIFIED:20260318T150912Z
UID:1662-1775638800-1775653200@uppcdm.org
SUMMARY:Office Open
DESCRIPTION:
URL:https://uppcdm.org/event/office-open-6/
LOCATION:Union Park Presbyterian Church\, 1307 Thompson Ave.\, Des Moines\, Iowa
ORGANIZER;CN="Dorothy Quartey":MAILTO:office.uppc@gmail.com
END:VEVENT
BEGIN:VEVENT
DTSTART;TZID=UTC:20260408T110000
DTEND;TZID=UTC:20260408T120000
DTSTAMP:20260423T221551
CREATED:20260304T145730Z
LAST-MODIFIED:20260304T150151Z
UID:1619-1775646000-1775649600@uppcdm.org
SUMMARY:Slow Down Coffee with Pastor Doug
DESCRIPTION:Coffee and Conversation with the Pastor\, all are Welcome! Explains the Bible in detail\, get your questions answered.
URL:https://uppcdm.org/event/slow-down-coffee-with-pastor-doug-10/
LOCATION:Slow Down Coffee Shop\, 3613 6th Avenue\, Des Moines\, Iowa
END:VEVENT
BEGIN:VEVENT
DTSTART;TZID=UTC:20260408T130000
DTEND;TZID=UTC:20260408T143000
DTSTAMP:20260423T221551
CREATED:20260304T150344Z
LAST-MODIFIED:20260304T150344Z
UID:1628-1775653200-1775658600@uppcdm.org
SUMMARY:Choir Rehearsal
DESCRIPTION:Come sing with us!
URL:https://uppcdm.org/event/choir-rehearsal-12/
LOCATION:Union Park Presbyterian Church\, 1307 Thompson Ave.\, Des Moines\, Iowa
END:VEVENT
BEGIN:VEVENT
DTSTART;TZID=UTC:20260411T100000
DTEND;TZID=UTC:20260411T140000
DTSTAMP:20260423T221551
CREATED:20260301T160807Z
LAST-MODIFIED:20260301T160833Z
UID:1552-1775901600-1775916000@uppcdm.org
SUMMARY:CIACUG Office Open
DESCRIPTION:
URL:https://uppcdm.org/event/ciacug-office-open-28/
LOCATION:3rd Floor Meeting Room\, 1307 Thompson Avenue\, Des Moines\, Iowa\, 50316\, United States
END:VEVENT
BEGIN:VEVENT
DTSTART;VALUE=DATE:20260412
DTEND;VALUE=DATE:20260413
DTSTAMP:20260423T221551
CREATED:20260301T162307Z
LAST-MODIFIED:20260301T162307Z
UID:1569-1775952000-1776038399@uppcdm.org
SUMMARY:2nd Sunday of Easter
DESCRIPTION:
URL:https://uppcdm.org/event/2nd-sunday-of-easter/
END:VEVENT
BEGIN:VEVENT
DTSTART;TZID=UTC:20260412T110000
DTEND;TZID=UTC:20260412T120000
DTSTAMP:20260423T221551
CREATED:20260303T174622Z
LAST-MODIFIED:20260303T174622Z
UID:1581-1775991600-1775995200@uppcdm.org
SUMMARY:Worship Service
DESCRIPTION:
URL:https://uppcdm.org/event/worship-service-15/
LOCATION:Sanctuary
END:VEVENT
BEGIN:VEVENT
DTSTART;TZID=UTC:20260412T120000
DTEND;TZID=UTC:20260412T130000
DTSTAMP:20260423T221551
CREATED:20260303T174737Z
LAST-MODIFIED:20260303T174737Z
UID:1583-1775995200-1775998800@uppcdm.org
SUMMARY:Coffee/Fellowship
DESCRIPTION:
URL:https://uppcdm.org/event/coffee-fellowship-68/
LOCATION:Union Park Presbyterian Church Fellowship Hall\, 1307 Thompson Ave.\, Des Moines\, Iowa
END:VEVENT
BEGIN:VEVENT
DTSTART;TZID=UTC:20260414T190000
DTEND;TZID=UTC:20260414T200000
DTSTAMP:20260423T221551
CREATED:20260303T180039Z
LAST-MODIFIED:20260303T180039Z
UID:1597-1776193200-1776196800@uppcdm.org
SUMMARY:CIACUG Computer Club Meeting
DESCRIPTION:
URL:https://uppcdm.org/event/ciacug-computer-club-meeting-7/
LOCATION:3rd Floor Meeting Room\, 1307 Thompson Avenue\, Des Moines\, Iowa\, 50316\, United States
END:VEVENT
BEGIN:VEVENT
DTSTART;TZID=UTC:20260414T190000
DTEND;TZID=UTC:20260414T200000
DTSTAMP:20260423T221551
CREATED:20260304T154943Z
LAST-MODIFIED:20260308T151352Z
UID:1647-1776193200-1776196800@uppcdm.org
SUMMARY:Choir Practice for Spring Concert @ Prince of Peace Lutheran
DESCRIPTION:
URL:https://uppcdm.org/event/choir-practice-for-spring-concert/
LOCATION:Prince of Peace Lutheran Church\, 2600 E. Euclid Ave.\, Des Moines\, IA\, 50317\, United States
END:VEVENT
BEGIN:VEVENT
DTSTART;TZID=UTC:20260415T090000
DTEND;TZID=UTC:20260415T110000
DTSTAMP:20260423T221551
CREATED:20260303T182509Z
LAST-MODIFIED:20260303T182509Z
UID:1612-1776243600-1776250800@uppcdm.org
SUMMARY:Coffee/Fellowship
DESCRIPTION:Join our men for Coffee and Donuts
URL:https://uppcdm.org/event/coffee-fellowship-73/
END:VEVENT
BEGIN:VEVENT
DTSTART;TZID=UTC:20260415T090000
DTEND;TZID=UTC:20260415T130000
DTSTAMP:20260423T221551
CREATED:20260318T151009Z
LAST-MODIFIED:20260318T151009Z
UID:1664-1776243600-1776258000@uppcdm.org
SUMMARY:Office Open
DESCRIPTION:
URL:https://uppcdm.org/event/office-open-7/
LOCATION:Union Park Presbyterian Church\, 1307 Thompson Ave.\, Des Moines\, Iowa
ORGANIZER;CN="Dorothy Quartey":MAILTO:office.uppc@gmail.com
END:VEVENT
BEGIN:VEVENT
DTSTART;TZID=UTC:20260415T110000
DTEND;TZID=UTC:20260415T120000
DTSTAMP:20260423T221551
CREATED:20260304T145828Z
LAST-MODIFIED:20260304T145828Z
UID:1621-1776250800-1776254400@uppcdm.org
SUMMARY:Slow Down Coffee with Pastor Doug
DESCRIPTION:
URL:https://uppcdm.org/event/slow-down-coffee-with-pastor-doug-11/
LOCATION:Slow Down Coffee Shop\, 3613 6th Avenue\, Des Moines\, Iowa
END:VEVENT
END:VCALENDAR