BEGIN:VCALENDAR
VERSION:2.0
PRODID:-//uppcdm - ECPv6.15.20//NONSGML v1.0//EN
CALSCALE:GREGORIAN
METHOD:PUBLISH
X-ORIGINAL-URL:https://uppcdm.org
X-WR-CALDESC:Events for uppcdm
REFRESH-INTERVAL;VALUE=DURATION:PT1H
X-Robots-Tag:noindex
X-PUBLISHED-TTL:PT1H
BEGIN:VTIMEZONE
TZID:UTC
BEGIN:STANDARD
TZOFFSETFROM:+0000
TZOFFSETTO:+0000
TZNAME:UTC
DTSTART:20250101T000000
END:STANDARD
END:VTIMEZONE
BEGIN:VEVENT
DTSTART;TZID=UTC:20260310T190000
DTEND;TZID=UTC:20260310T200000
DTSTAMP:20260423T234857
CREATED:20260203T172712Z
LAST-MODIFIED:20260203T172712Z
UID:1474-1773169200-1773172800@uppcdm.org
SUMMARY:CIACUG Computer Club Meeting
DESCRIPTION:
URL:https://uppcdm.org/event/ciacug-computer-club-meeting-6/
LOCATION:3rd Floor Meeting Room\, 1307 Thompson Avenue\, Des Moines\, Iowa\, 50316\, United States
END:VEVENT
BEGIN:VEVENT
DTSTART;TZID=UTC:20260311T090000
DTEND;TZID=UTC:20260311T110000
DTSTAMP:20260423T234857
CREATED:20260203T173404Z
LAST-MODIFIED:20260203T173404Z
UID:1480-1773219600-1773226800@uppcdm.org
SUMMARY:Coffee/Fellowship
DESCRIPTION:
URL:https://uppcdm.org/event/coffee-fellowship-61/
LOCATION:Union Park Presbyterian Church Fellowship Hall\, 1307 Thompson Ave.\, Des Moines\, Iowa
END:VEVENT
BEGIN:VEVENT
DTSTART;TZID=UTC:20260311T090000
DTEND;TZID=UTC:20260311T130000
DTSTAMP:20260423T234857
CREATED:20260217T220648Z
LAST-MODIFIED:20260217T220648Z
UID:1534-1773219600-1773234000@uppcdm.org
SUMMARY:Office Open Wednesdays
DESCRIPTION:
URL:https://uppcdm.org/event/office-open-wednesdays-3/
LOCATION:Union Park Presbyterian Church\, 1307 Thompson Ave.\, Des Moines\, Iowa
ORGANIZER;CN="Dorothy Quartey":MAILTO:office.uppc@gmail.com
END:VEVENT
BEGIN:VEVENT
DTSTART;TZID=UTC:20260311T110000
DTEND;TZID=UTC:20260311T120000
DTSTAMP:20260423T234857
CREATED:20260209T163339Z
LAST-MODIFIED:20260209T163339Z
UID:1493-1773226800-1773230400@uppcdm.org
SUMMARY:Slow Down Coffee with Pastor Doug
DESCRIPTION:
URL:https://uppcdm.org/event/slow-down-coffee-with-pastor-doug-7/
LOCATION:Slow Down Coffee Shop\, 3613 6th Avenue\, Des Moines\, Iowa
END:VEVENT
BEGIN:VEVENT
DTSTART;TZID=UTC:20260314T100000
DTEND;TZID=UTC:20260314T140000
DTSTAMP:20260423T234857
CREATED:20260203T173741Z
LAST-MODIFIED:20260203T173741Z
UID:1484-1773482400-1773496800@uppcdm.org
SUMMARY:CIACUG Office Open
DESCRIPTION:
URL:https://uppcdm.org/event/ciacug-office-open-25/
LOCATION:3rd Floor Meeting Room\, 1307 Thompson Avenue\, Des Moines\, Iowa\, 50316\, United States
END:VEVENT
BEGIN:VEVENT
DTSTART;VALUE=DATE:20260315
DTEND;VALUE=DATE:20260316
DTSTAMP:20260423T234857
CREATED:20260203T164704Z
LAST-MODIFIED:20260217T220804Z
UID:1444-1773532800-1773619199@uppcdm.org
SUMMARY:4th Sunday in Lent
DESCRIPTION:
URL:https://uppcdm.org/event/4th-sunday-in-lent/
END:VEVENT
BEGIN:VEVENT
DTSTART;TZID=UTC:20260315T110000
DTEND;TZID=UTC:20260315T120000
DTSTAMP:20260423T234857
CREATED:20260203T171948Z
LAST-MODIFIED:20260203T172028Z
UID:1464-1773572400-1773576000@uppcdm.org
SUMMARY:Worship Service
DESCRIPTION:
URL:https://uppcdm.org/event/worship-service-12/
END:VEVENT
BEGIN:VEVENT
DTSTART;TZID=UTC:20260315T120000
DTEND;TZID=UTC:20260315T130000
DTSTAMP:20260423T234857
CREATED:20260218T161714Z
LAST-MODIFIED:20260218T161714Z
UID:1539-1773576000-1773579600@uppcdm.org
SUMMARY:Worship & Nurture Committee Meeting
DESCRIPTION:
URL:https://uppcdm.org/event/worship-nurture-committee-meeting/
LOCATION:Union Park Presbyterian Church Fellowship Hall\, 1307 Thompson Ave.\, Des Moines\, Iowa
END:VEVENT
BEGIN:VEVENT
DTSTART;TZID=UTC:20260315T120000
DTEND;TZID=UTC:20260315T130000
DTSTAMP:20260423T234857
CREATED:20260303T175741Z
LAST-MODIFIED:20260303T175741Z
UID:1595-1773576000-1773579600@uppcdm.org
SUMMARY:Coffee/Fellowship
DESCRIPTION:
URL:https://uppcdm.org/event/coffee-fellowship-59/
LOCATION:Union Park Presbyterian Church Fellowship Hall\, 1307 Thompson Ave.\, Des Moines\, Iowa
END:VEVENT
BEGIN:VEVENT
DTSTART;TZID=UTC:20260318T090000
DTEND;TZID=UTC:20260318T110000
DTSTAMP:20260423T234857
CREATED:20260209T163457Z
LAST-MODIFIED:20260209T163457Z
UID:1495-1773824400-1773831600@uppcdm.org
SUMMARY:Coffee/Fellowship
DESCRIPTION:
URL:https://uppcdm.org/event/coffee-fellowship-62/
LOCATION:Union Park Presbyterian Church Fellowship Hall\, 1307 Thompson Ave.\, Des Moines\, Iowa
END:VEVENT
BEGIN:VEVENT
DTSTART;TZID=UTC:20260318T090000
DTEND;TZID=UTC:20260318T130000
DTSTAMP:20260423T234857
CREATED:20260217T220508Z
LAST-MODIFIED:20260217T220531Z
UID:1532-1773824400-1773838800@uppcdm.org
SUMMARY:Office Open Wednesdays
DESCRIPTION:
URL:https://uppcdm.org/event/office-open-wednesdays-2/
LOCATION:Union Park Presbyterian Church\, 1307 Thompson Ave.\, Des Moines\, Iowa
ORGANIZER;CN="Dorothy Quartey":MAILTO:office.uppc@gmail.com
END:VEVENT
BEGIN:VEVENT
DTSTART;TZID=UTC:20260318T110000
DTEND;TZID=UTC:20260318T120000
DTSTAMP:20260423T234857
CREATED:20260209T163620Z
LAST-MODIFIED:20260209T163620Z
UID:1497-1773831600-1773835200@uppcdm.org
SUMMARY:Slow Down Coffee with Pastor Doug
DESCRIPTION:
URL:https://uppcdm.org/event/slow-down-coffee-with-pastor-doug-8/
LOCATION:Slow Down Coffee Shop\, 3613 6th Avenue\, Des Moines\, Iowa
END:VEVENT
BEGIN:VEVENT
DTSTART;TZID=UTC:20260318T130000
DTEND;TZID=UTC:20260318T143000
DTSTAMP:20260423T234857
CREATED:20260209T163732Z
LAST-MODIFIED:20260209T163732Z
UID:1499-1773838800-1773844200@uppcdm.org
SUMMARY:Choir Rehearsal
DESCRIPTION:
URL:https://uppcdm.org/event/choir-rehearsal-10/
END:VEVENT
BEGIN:VEVENT
DTSTART;TZID=UTC:20260318T183000
DTEND;TZID=UTC:20260318T203000
DTSTAMP:20260423T234857
CREATED:20260209T163842Z
LAST-MODIFIED:20260209T163842Z
UID:1501-1773858600-1773865800@uppcdm.org
SUMMARY:Session Meeting
DESCRIPTION:
URL:https://uppcdm.org/event/session-meeting-6/
LOCATION:UPPC Meeting Room
END:VEVENT
BEGIN:VEVENT
DTSTART;TZID=UTC:20260319T123000
DTEND;TZID=UTC:20260319T133000
DTSTAMP:20260423T234857
CREATED:20260209T170335Z
LAST-MODIFIED:20260211T202330Z
UID:1515-1773923400-1773927000@uppcdm.org
SUMMARY:Bible Study
DESCRIPTION:
URL:https://uppcdm.org/event/bible-study-10/
LOCATION:Union Park Presbyterian Church\, 1307 Thompson Ave.\, Des Moines\, Iowa
END:VEVENT
BEGIN:VEVENT
DTSTART;TZID=UTC:20260321T100000
DTEND;TZID=UTC:20260321T140000
DTSTAMP:20260423T234857
CREATED:20260203T173937Z
LAST-MODIFIED:20260203T173937Z
UID:1486-1774087200-1774101600@uppcdm.org
SUMMARY:CIACUG Office Open
DESCRIPTION:
URL:https://uppcdm.org/event/ciacug-office-open-26/
LOCATION:3rd Floor Meeting Room\, 1307 Thompson Avenue\, Des Moines\, Iowa\, 50316\, United States
END:VEVENT
BEGIN:VEVENT
DTSTART;VALUE=DATE:20260322
DTEND;VALUE=DATE:20260323
DTSTAMP:20260423T234857
CREATED:20260203T164741Z
LAST-MODIFIED:20260203T164741Z
UID:1446-1774137600-1774223999@uppcdm.org
SUMMARY:5th Sunday in Lent
DESCRIPTION:
URL:https://uppcdm.org/event/5th-sunday-in-lent/
END:VEVENT
BEGIN:VEVENT
DTSTART;TZID=UTC:20260322T110000
DTEND;TZID=UTC:20260322T120000
DTSTAMP:20260423T234857
CREATED:20260203T172251Z
LAST-MODIFIED:20260203T172251Z
UID:1468-1774177200-1774180800@uppcdm.org
SUMMARY:Worship Service
DESCRIPTION:
URL:https://uppcdm.org/event/worship-service-13/
END:VEVENT
BEGIN:VEVENT
DTSTART;TZID=UTC:20260322T120000
DTEND;TZID=UTC:20260322T130000
DTSTAMP:20260423T234857
CREATED:20260203T172352Z
LAST-MODIFIED:20260203T172352Z
UID:1470-1774180800-1774184400@uppcdm.org
SUMMARY:Coffee/Fellowship
DESCRIPTION:
URL:https://uppcdm.org/event/coffee-fellowship-60/
LOCATION:Union Park Presbyterian Church Fellowship Hall\, 1307 Thompson Ave.\, Des Moines\, Iowa
END:VEVENT
BEGIN:VEVENT
DTSTART;VALUE=DATE:20260324
DTEND;VALUE=DATE:20260325
DTSTAMP:20260423T234857
CREATED:20260203T173004Z
LAST-MODIFIED:20260203T173004Z
UID:1476-1774310400-1774396799@uppcdm.org
SUMMARY:Press Deadline
DESCRIPTION:
URL:https://uppcdm.org/event/press-deadline-6/
END:VEVENT
BEGIN:VEVENT
DTSTART;TZID=UTC:20260325T090000
DTEND;TZID=UTC:20260325T130000
DTSTAMP:20260423T234857
CREATED:20260217T215656Z
LAST-MODIFIED:20260217T215736Z
UID:1526-1774429200-1774443600@uppcdm.org
SUMMARY:Office Open Wednesdays
DESCRIPTION:
URL:https://uppcdm.org/event/office-open-wednesdays/
END:VEVENT
BEGIN:VEVENT
DTSTART;TZID=UTC:20260325T090000
DTEND;TZID=UTC:20260325T230000
DTSTAMP:20260423T234857
CREATED:20260209T164003Z
LAST-MODIFIED:20260209T164003Z
UID:1503-1774429200-1774479600@uppcdm.org
SUMMARY:Coffee/Fellowship
DESCRIPTION:
URL:https://uppcdm.org/event/coffee-fellowship-63/
LOCATION:Union Park Presbyterian Church Fellowship Hall\, 1307 Thompson Ave.\, Des Moines\, Iowa
END:VEVENT
BEGIN:VEVENT
DTSTART;TZID=UTC:20260325T120000
DTEND;TZID=UTC:20260325T130000
DTSTAMP:20260423T234857
CREATED:20260209T164214Z
LAST-MODIFIED:20260209T164214Z
UID:1505-1774440000-1774443600@uppcdm.org
SUMMARY:Slow Down Coffee with Pastor Doug
DESCRIPTION:
URL:https://uppcdm.org/event/slow-down-coffee-with-pastor-doug-9/
LOCATION:Slow Down Coffee Shop\, 3613 6th Avenue\, Des Moines\, Iowa
END:VEVENT
BEGIN:VEVENT
DTSTART;TZID=UTC:20260325T130000
DTEND;TZID=UTC:20260325T143000
DTSTAMP:20260423T234857
CREATED:20260209T164319Z
LAST-MODIFIED:20260209T164319Z
UID:1507-1774443600-1774449000@uppcdm.org
SUMMARY:Choir Rehearsal
DESCRIPTION:
URL:https://uppcdm.org/event/choir-rehearsal-11/
END:VEVENT
BEGIN:VEVENT
DTSTART;TZID=UTC:20260328T100000
DTEND;TZID=UTC:20260328T140000
DTSTAMP:20260423T234857
CREATED:20260203T174037Z
LAST-MODIFIED:20260203T174037Z
UID:1488-1774692000-1774706400@uppcdm.org
SUMMARY:CIACUG Office Open
DESCRIPTION:
URL:https://uppcdm.org/event/ciacug-office-open-27/
LOCATION:3rd Floor Meeting Room\, 1307 Thompson Avenue\, Des Moines\, Iowa\, 50316\, United States
END:VEVENT
BEGIN:VEVENT
DTSTART;VALUE=DATE:20260329
DTEND;VALUE=DATE:20260330
DTSTAMP:20260423T234857
CREATED:20260203T164902Z
LAST-MODIFIED:20260209T170629Z
UID:1448-1774742400-1774828799@uppcdm.org
SUMMARY:Palm/Passion Sunday (Holy Week begins)
DESCRIPTION:Choir will sing “The Palms”. One Great Hour of Sharing offering will be collected.
URL:https://uppcdm.org/event/palm-passion-sunday-holy-week-begins/
END:VEVENT
BEGIN:VEVENT
DTSTART;TZID=UTC:20260329T110000
DTEND;TZID=UTC:20260329T120000
DTSTAMP:20260423T234857
CREATED:20260203T172549Z
LAST-MODIFIED:20260203T172549Z
UID:1472-1774782000-1774785600@uppcdm.org
SUMMARY:Worship Service
DESCRIPTION:
URL:https://uppcdm.org/event/worship-service-14/
END:VEVENT
BEGIN:VEVENT
DTSTART;TZID=UTC:20260329T120000
DTEND;TZID=UTC:20260329T130000
DTSTAMP:20260423T234857
CREATED:20260303T175406Z
LAST-MODIFIED:20260303T175406Z
UID:1593-1774785600-1774789200@uppcdm.org
SUMMARY:Coffee/Fellowship
DESCRIPTION:
URL:https://uppcdm.org/event/coffee-fellowship-71/
LOCATION:Union Park Presbyterian Church Fellowship Hall\, 1307 Thompson Ave.\, Des Moines\, Iowa
END:VEVENT
BEGIN:VEVENT
DTSTART;VALUE=DATE:20260330
DTEND;VALUE=DATE:20260331
DTSTAMP:20260423T234857
CREATED:20260203T164950Z
LAST-MODIFIED:20260203T164950Z
UID:1450-1774828800-1774915199@uppcdm.org
SUMMARY:Monday of Holy Week
DESCRIPTION:
URL:https://uppcdm.org/event/monday-of-holy-week/
END:VEVENT
BEGIN:VEVENT
DTSTART;VALUE=DATE:20260331
DTEND;VALUE=DATE:20260401
DTSTAMP:20260423T234857
CREATED:20260203T165113Z
LAST-MODIFIED:20260203T165224Z
UID:1452-1774915200-1775001599@uppcdm.org
SUMMARY:Tuesday of Holy Week
DESCRIPTION:
URL:https://uppcdm.org/event/tuesday-of-holy-week/
END:VEVENT
END:VCALENDAR