BEGIN:VCALENDAR
VERSION:2.0
PRODID:-//uppcdm - ECPv6.15.20//NONSGML v1.0//EN
CALSCALE:GREGORIAN
METHOD:PUBLISH
X-WR-CALNAME:uppcdm
X-ORIGINAL-URL:https://uppcdm.org
X-WR-CALDESC:Events for uppcdm
REFRESH-INTERVAL;VALUE=DURATION:PT1H
X-Robots-Tag:noindex
X-PUBLISHED-TTL:PT1H
BEGIN:VTIMEZONE
TZID:UTC
BEGIN:STANDARD
TZOFFSETFROM:+0000
TZOFFSETTO:+0000
TZNAME:UTC
DTSTART:20250101T000000
END:STANDARD
END:VTIMEZONE
BEGIN:VEVENT
DTSTART;VALUE=DATE:20260517
DTEND;VALUE=DATE:20260518
DTSTAMP:20260423T232304
CREATED:20260401T153958Z
LAST-MODIFIED:20260401T153958Z
UID:1678-1778976000-1779062399@uppcdm.org
SUMMARY:7th Sunday of Easter
DESCRIPTION:
URL:https://uppcdm.org/event/7th-sunday-of-easter/
END:VEVENT
BEGIN:VEVENT
DTSTART;TZID=UTC:20260516T100000
DTEND;TZID=UTC:20260516T140000
DTSTAMP:20260423T232304
CREATED:20260401T164659Z
LAST-MODIFIED:20260401T164659Z
UID:1742-1778925600-1778940000@uppcdm.org
SUMMARY:CIACUG Office Open
DESCRIPTION:
URL:https://uppcdm.org/event/ciacug-office-open-34/
LOCATION:3rd Floor Meeting Room\, 1307 Thompson Avenue\, Des Moines\, Iowa\, 50316\, United States
END:VEVENT
BEGIN:VEVENT
DTSTART;VALUE=DATE:20260514
DTEND;VALUE=DATE:20260515
DTSTAMP:20260423T232304
CREATED:20260401T165413Z
LAST-MODIFIED:20260401T165413Z
UID:1748-1778716800-1778803199@uppcdm.org
SUMMARY:Ascension of the Lord
DESCRIPTION:
URL:https://uppcdm.org/event/ascension-of-the-lord-2/
END:VEVENT
BEGIN:VEVENT
DTSTART;TZID=UTC:20260513T130000
DTEND;TZID=UTC:20260513T143000
DTSTAMP:20260423T232304
CREATED:20260401T163113Z
LAST-MODIFIED:20260401T163113Z
UID:1725-1778677200-1778682600@uppcdm.org
SUMMARY:Choir Rehearsal
DESCRIPTION:
URL:https://uppcdm.org/event/choir-rehearsal-16/
LOCATION:Sanctuary
END:VEVENT
BEGIN:VEVENT
DTSTART;TZID=UTC:20260513T110000
DTEND;TZID=UTC:20260513T120000
DTSTAMP:20260423T232304
CREATED:20260401T162531Z
LAST-MODIFIED:20260401T162531Z
UID:1719-1778670000-1778673600@uppcdm.org
SUMMARY:Slow Down Coffee with Pastor Doug
DESCRIPTION:Come! Learn about the Bible and join in the discussion.
URL:https://uppcdm.org/event/slow-down-coffee-with-pastor-doug-14/
LOCATION:Slow Down Coffee Shop\, 3613 6th Avenue\, Des Moines\, Iowa
END:VEVENT
BEGIN:VEVENT
DTSTART;TZID=UTC:20260513T090000
DTEND;TZID=UTC:20260513T110000
DTSTAMP:20260423T232304
CREATED:20260401T161713Z
LAST-MODIFIED:20260401T161713Z
UID:1710-1778662800-1778670000@uppcdm.org
SUMMARY:Men's Coffee/Fellowship
DESCRIPTION:
URL:https://uppcdm.org/event/mens-coffee-fellowship-2/
LOCATION:Union Park Presbyterian Church Fellowship Hall\, 1307 Thompson Ave.\, Des Moines\, Iowa
END:VEVENT
BEGIN:VEVENT
DTSTART;TZID=UTC:20260512T190000
DTEND;TZID=UTC:20260512T200000
DTSTAMP:20260423T232304
CREATED:20260401T154313Z
LAST-MODIFIED:20260401T154521Z
UID:1684-1778612400-1778616000@uppcdm.org
SUMMARY:CIACUG Computer Club Meeting
DESCRIPTION:
URL:https://uppcdm.org/event/ciacug-computer-club-meeting-8/
LOCATION:3rd Floor Meeting Room\, 1307 Thompson Avenue\, Des Moines\, Iowa\, 50316\, United States
END:VEVENT
BEGIN:VEVENT
DTSTART;TZID=UTC:20260510T120000
DTEND;TZID=UTC:20260510T130000
DTSTAMP:20260423T232304
CREATED:20260401T160208Z
LAST-MODIFIED:20260401T160208Z
UID:1700-1778414400-1778418000@uppcdm.org
SUMMARY:Coffee/Fellowship
DESCRIPTION:
URL:https://uppcdm.org/event/coffee-fellowship-77/
LOCATION:Union Park Presbyterian Church Fellowship Hall\, 1307 Thompson Ave.\, Des Moines\, Iowa
END:VEVENT
BEGIN:VEVENT
DTSTART;TZID=UTC:20260510T110000
DTEND;TZID=UTC:20260510T120000
DTSTAMP:20260423T232304
CREATED:20260401T155333Z
LAST-MODIFIED:20260401T155333Z
UID:1690-1778410800-1778414400@uppcdm.org
SUMMARY:Worship Service
DESCRIPTION:
URL:https://uppcdm.org/event/worship-service-18/
LOCATION:Sanctuary
END:VEVENT
BEGIN:VEVENT
DTSTART;VALUE=DATE:20260510
DTEND;VALUE=DATE:20260511
DTSTAMP:20260423T232304
CREATED:20260401T153901Z
LAST-MODIFIED:20260401T153901Z
UID:1676-1778371200-1778457599@uppcdm.org
SUMMARY:6th Sunday of Easter
DESCRIPTION:
URL:https://uppcdm.org/event/6th-sunday-of-easter/
END:VEVENT
BEGIN:VEVENT
DTSTART;TZID=UTC:20260509T100000
DTEND;TZID=UTC:20260509T140000
DTSTAMP:20260423T232304
CREATED:20260401T164553Z
LAST-MODIFIED:20260401T164553Z
UID:1740-1778320800-1778335200@uppcdm.org
SUMMARY:CIACUG Office Open
DESCRIPTION:
URL:https://uppcdm.org/event/ciacug-office-open-33/
LOCATION:3rd Floor Meeting Room\, 1307 Thompson Avenue\, Des Moines\, Iowa\, 50316\, United States
END:VEVENT
BEGIN:VEVENT
DTSTART;TZID=UTC:20260507T123000
DTEND;TZID=UTC:20260507T133000
DTSTAMP:20260423T232304
CREATED:20260401T163926Z
LAST-MODIFIED:20260401T163926Z
UID:1732-1778157000-1778160600@uppcdm.org
SUMMARY:Bibly Study
DESCRIPTION:Please feel free and you will be Welcome to come and learn with us! Every 1st and 3rd Thursday.
URL:https://uppcdm.org/event/bibly-study/
LOCATION:UPPC Meeting Room
END:VEVENT
BEGIN:VEVENT
DTSTART;TZID=UTC:20260506T123000
DTEND;TZID=UTC:20260506T143000
DTSTAMP:20260423T232304
CREATED:20260401T162253Z
LAST-MODIFIED:20260401T162253Z
UID:1716-1778070600-1778077800@uppcdm.org
SUMMARY:UPPC Presbyterian Women's Group
DESCRIPTION:Join us for prayer and educational opportunities. Snacks and beverages will be served.
URL:https://uppcdm.org/event/uppc-presbyterian-womens-group/
LOCATION:Union Park Presbyterian Church Fellowship Hall\, 1307 Thompson Ave.\, Des Moines\, Iowa
ORGANIZER;CN="Sandy Newton":MAILTO:office.uppc@gmail.com
END:VEVENT
BEGIN:VEVENT
DTSTART;TZID=UTC:20260506T090000
DTEND;TZID=UTC:20260506T230000
DTSTAMP:20260423T232304
CREATED:20260401T161601Z
LAST-MODIFIED:20260401T161601Z
UID:1708-1778058000-1778108400@uppcdm.org
SUMMARY:Men's Coffee/Fellowship
DESCRIPTION:Join our Men to for a friendly gathering\, Donuts and Coffee available
URL:https://uppcdm.org/event/mens-coffee-fellowship/
LOCATION:Union Park Presbyterian Church Fellowship Hall\, 1307 Thompson Ave.\, Des Moines\, Iowa
END:VEVENT
BEGIN:VEVENT
DTSTART;TZID=UTC:20260503T120000
DTEND;TZID=UTC:20260503T130000
DTSTAMP:20260423T232304
CREATED:20260401T160031Z
LAST-MODIFIED:20260401T160031Z
UID:1698-1777809600-1777813200@uppcdm.org
SUMMARY:Coffee/Fellowship
DESCRIPTION:A chance to mingle with our members and introduce yourself.
URL:https://uppcdm.org/event/coffee-fellowship-76/
LOCATION:Union Park Presbyterian Church Fellowship Hall\, 1307 Thompson Ave.\, Des Moines\, Iowa
END:VEVENT
BEGIN:VEVENT
DTSTART;TZID=UTC:20260503T110000
DTEND;TZID=UTC:20260503T120000
DTSTAMP:20260423T232304
CREATED:20260401T155153Z
LAST-MODIFIED:20260401T155153Z
UID:1688-1777806000-1777809600@uppcdm.org
SUMMARY:Worship Service with Communion
DESCRIPTION:
URL:https://uppcdm.org/event/worship-service-with-communion/
LOCATION:Sanctuary
END:VEVENT
BEGIN:VEVENT
DTSTART;VALUE=DATE:20260503
DTEND;VALUE=DATE:20260504
DTSTAMP:20260423T232304
CREATED:20260401T153816Z
LAST-MODIFIED:20260401T153816Z
UID:1674-1777766400-1777852799@uppcdm.org
SUMMARY:5th Sunday of Easter
DESCRIPTION:
URL:https://uppcdm.org/event/5th-sunday-of-easter/
END:VEVENT
BEGIN:VEVENT
DTSTART;TZID=UTC:20260502T100000
DTEND;TZID=UTC:20260502T140000
DTSTAMP:20260423T232304
CREATED:20260401T164447Z
LAST-MODIFIED:20260401T164447Z
UID:1738-1777716000-1777730400@uppcdm.org
SUMMARY:CIACUG Office Open
DESCRIPTION:
URL:https://uppcdm.org/event/ciacug-office-open-32/
LOCATION:3rd Floor Meeting Room\, 1307 Thompson Avenue\, Des Moines\, Iowa\, 50316\, United States
END:VEVENT
BEGIN:VEVENT
DTSTART;TZID=UTC:20260429T130000
DTEND;TZID=UTC:20260429T143000
DTSTAMP:20260423T232304
CREATED:20260304T150636Z
LAST-MODIFIED:20260304T150636Z
UID:1634-1777467600-1777473000@uppcdm.org
SUMMARY:Choir Rehearsal
DESCRIPTION:
URL:https://uppcdm.org/event/choir-rehearsal-15/
LOCATION:Union Park Presbyterian Church\, 1307 Thompson Ave.\, Des Moines\, Iowa
END:VEVENT
BEGIN:VEVENT
DTSTART;TZID=UTC:20260429T110000
DTEND;TZID=UTC:20260429T120000
DTSTAMP:20260423T232304
CREATED:20260304T150015Z
LAST-MODIFIED:20260304T150015Z
UID:1625-1777460400-1777464000@uppcdm.org
SUMMARY:Slow Down Coffee with Pastor Doug
DESCRIPTION:
URL:https://uppcdm.org/event/slow-down-coffee-with-pastor-doug-13/
LOCATION:Slow Down Coffee Shop\, 3613 6th Avenue\, Des Moines\, Iowa
END:VEVENT
BEGIN:VEVENT
DTSTART;TZID=UTC:20260429T090000
DTEND;TZID=UTC:20260429T130000
DTSTAMP:20260423T232304
CREATED:20260318T151155Z
LAST-MODIFIED:20260318T151155Z
UID:1668-1777453200-1777467600@uppcdm.org
SUMMARY:Office Open
DESCRIPTION:
URL:https://uppcdm.org/event/office-open-9/
LOCATION:Union Park Presbyterian Church\, 1307 Thompson Ave.\, Des Moines\, Iowa
ORGANIZER;CN="Dorothy Quartey":MAILTO:office.uppc@gmail.com
END:VEVENT
BEGIN:VEVENT
DTSTART;TZID=UTC:20260429T090000
DTEND;TZID=UTC:20260429T110000
DTSTAMP:20260423T232304
CREATED:20260303T182735Z
LAST-MODIFIED:20260303T182735Z
UID:1617-1777453200-1777460400@uppcdm.org
SUMMARY:Coffee/Fellowship
DESCRIPTION:Join our men for Coffee and Donuts
URL:https://uppcdm.org/event/coffee-fellowship-75/
END:VEVENT
BEGIN:VEVENT
DTSTART;TZID=UTC:20260426T120000
DTEND;TZID=UTC:20260426T130000
DTSTAMP:20260423T232304
CREATED:20260325T143726Z
LAST-MODIFIED:20260325T143726Z
UID:1671-1777204800-1777208400@uppcdm.org
SUMMARY:Evangelism & Outreach Meeting
DESCRIPTION:
URL:https://uppcdm.org/event/evangelism-outreach-meeting/
LOCATION:Union Park Presbyterian Church Fellowship Hall\, 1307 Thompson Ave.\, Des Moines\, Iowa
END:VEVENT
BEGIN:VEVENT
DTSTART;TZID=UTC:20260426T120000
DTEND;TZID=UTC:20260426T130000
DTSTAMP:20260423T232304
CREATED:20260303T175245Z
LAST-MODIFIED:20260303T175245Z
UID:1591-1777204800-1777208400@uppcdm.org
SUMMARY:Coffee/Fellowship
DESCRIPTION:
URL:https://uppcdm.org/event/coffee-fellowship-70/
LOCATION:Union Park Presbyterian Church Fellowship Hall\, 1307 Thompson Ave.\, Des Moines\, Iowa
END:VEVENT
BEGIN:VEVENT
DTSTART;TZID=UTC:20260426T110000
DTEND;TZID=UTC:20260426T120000
DTSTAMP:20260423T232304
CREATED:20260303T175129Z
LAST-MODIFIED:20260303T175129Z
UID:1589-1777201200-1777204800@uppcdm.org
SUMMARY:Worship Service
DESCRIPTION:
URL:https://uppcdm.org/event/worship-service-17/
LOCATION:Sanctuary
END:VEVENT
BEGIN:VEVENT
DTSTART;VALUE=DATE:20260426
DTEND;VALUE=DATE:20260427
DTSTAMP:20260423T232304
CREATED:20260301T162501Z
LAST-MODIFIED:20260301T162501Z
UID:1573-1777161600-1777247999@uppcdm.org
SUMMARY:4th Sunday of Easter
DESCRIPTION:
URL:https://uppcdm.org/event/4th-sunday-of-easter/
END:VEVENT
BEGIN:VEVENT
DTSTART;TZID=UTC:20260425T100000
DTEND;TZID=UTC:20260425T140000
DTSTAMP:20260423T232304
CREATED:20260301T161141Z
LAST-MODIFIED:20260301T161141Z
UID:1558-1777111200-1777125600@uppcdm.org
SUMMARY:CIACUG Office Open
DESCRIPTION:
URL:https://uppcdm.org/event/ciacug-office-open-31/
LOCATION:3rd Floor Meeting Room\, 1307 Thompson Avenue\, Des Moines\, Iowa\, 50316\, United States
END:VEVENT
BEGIN:VEVENT
DTSTART;TZID=UTC:20260422T130000
DTEND;TZID=UTC:20260422T143000
DTSTAMP:20260423T232304
CREATED:20260304T150531Z
LAST-MODIFIED:20260304T150531Z
UID:1632-1776862800-1776868200@uppcdm.org
SUMMARY:Choir Rehearsal
DESCRIPTION:
URL:https://uppcdm.org/event/choir-rehearsal-14/
LOCATION:Union Park Presbyterian Church\, 1307 Thompson Ave.\, Des Moines\, Iowa
END:VEVENT
BEGIN:VEVENT
DTSTART;TZID=UTC:20260422T110000
DTEND;TZID=UTC:20260422T120000
DTSTAMP:20260423T232304
CREATED:20260304T145919Z
LAST-MODIFIED:20260304T145919Z
UID:1623-1776855600-1776859200@uppcdm.org
SUMMARY:Slow Down Coffee with Pastor Doug
DESCRIPTION:
URL:https://uppcdm.org/event/slow-down-coffee-with-pastor-doug-12/
LOCATION:Slow Down Coffee Shop\, 3613 6th Avenue\, Des Moines\, Iowa
END:VEVENT
BEGIN:VEVENT
DTSTART;TZID=UTC:20260422T090000
DTEND;TZID=UTC:20260422T130000
DTSTAMP:20260423T232304
CREATED:20260318T151058Z
LAST-MODIFIED:20260318T151058Z
UID:1666-1776848400-1776862800@uppcdm.org
SUMMARY:Office Open
DESCRIPTION:
URL:https://uppcdm.org/event/office-open-8/
LOCATION:Union Park Presbyterian Church\, 1307 Thompson Ave.\, Des Moines\, Iowa
ORGANIZER;CN="Dorothy Quartey":MAILTO:office.uppc@gmail.com
END:VEVENT
END:VCALENDAR