BEGIN:VCALENDAR
VERSION:2.0
PRODID:-//uppcdm - ECPv6.15.20//NONSGML v1.0//EN
CALSCALE:GREGORIAN
METHOD:PUBLISH
X-WR-CALNAME:uppcdm
X-ORIGINAL-URL:https://uppcdm.org
X-WR-CALDESC:Events for uppcdm
REFRESH-INTERVAL;VALUE=DURATION:PT1H
X-Robots-Tag:noindex
X-PUBLISHED-TTL:PT1H
BEGIN:VTIMEZONE
TZID:UTC
BEGIN:STANDARD
TZOFFSETFROM:+0000
TZOFFSETTO:+0000
TZNAME:UTC
DTSTART:20240101T000000
END:STANDARD
END:VTIMEZONE
BEGIN:VEVENT
DTSTART;TZID=UTC:20251012T120000
DTEND;TZID=UTC:20251012T130000
DTSTAMP:20260424T041409
CREATED:20250928T150253Z
LAST-MODIFIED:20250928T150253Z
UID:1021-1760270400-1760274000@uppcdm.org
SUMMARY:Fellowship with coffee/snacks
DESCRIPTION:
URL:https://uppcdm.org/event/fellowship-with-coffee-snacks-2/
END:VEVENT
BEGIN:VEVENT
DTSTART;TZID=UTC:20251012T110000
DTEND;TZID=UTC:20251012T120000
DTSTAMP:20260424T041409
CREATED:20250924T175131Z
LAST-MODIFIED:20250924T175131Z
UID:951-1760266800-1760270400@uppcdm.org
SUMMARY:Worship
DESCRIPTION:
URL:https://uppcdm.org/event/worship-11/
LOCATION:Union Park Presbyterian Church\, 1307 Thompson Ave.\, Des Moines\, Iowa
END:VEVENT
BEGIN:VEVENT
DTSTART;TZID=UTC:20251011T100000
DTEND;TZID=UTC:20251011T150000
DTSTAMP:20260424T041409
CREATED:20250924T193507Z
LAST-MODIFIED:20250924T193507Z
UID:1001-1760176800-1760194800@uppcdm.org
SUMMARY:CIACUG Office Open\, help & training
DESCRIPTION:
URL:https://uppcdm.org/event/ciacug-office-open-help-training/
END:VEVENT
BEGIN:VEVENT
DTSTART;TZID=UTC:20251008T130000
DTEND;TZID=UTC:20251008T140000
DTSTAMP:20260424T041409
CREATED:20250924T190821Z
LAST-MODIFIED:20250924T190821Z
UID:977-1759928400-1759932000@uppcdm.org
SUMMARY:Choir Rehearsal
DESCRIPTION:
URL:https://uppcdm.org/event/choir-rehearsal/
END:VEVENT
BEGIN:VEVENT
DTSTART;TZID=UTC:20251008T090000
DTEND;TZID=UTC:20251008T100000
DTSTAMP:20260424T041409
CREATED:20250924T180210Z
LAST-MODIFIED:20250924T180210Z
UID:966-1759914000-1759917600@uppcdm.org
SUMMARY:Coffee/Fellowship
DESCRIPTION:
URL:https://uppcdm.org/event/coffee-fellowship-24/
END:VEVENT
BEGIN:VEVENT
DTSTART;TZID=UTC:20251006T183000
DTEND;TZID=UTC:20251006T200000
DTSTAMP:20260424T041409
CREATED:20250917T151855Z
LAST-MODIFIED:20250917T151855Z
UID:886-1759775400-1759780800@uppcdm.org
SUMMARY:Book Club
DESCRIPTION:“Wisdom of Sally Red Shoes” by Ruth Hogan. Oct 6\, 2025 @ 630 P.M. Union Park Presbyterian Church. All are Welcome.
URL:https://uppcdm.org/event/book-club-2/
END:VEVENT
BEGIN:VEVENT
DTSTART;TZID=UTC:20251005T120000
DTEND;TZID=UTC:20251005T130000
DTSTAMP:20260424T041409
CREATED:20250928T145526Z
LAST-MODIFIED:20250928T145526Z
UID:1014-1759665600-1759669200@uppcdm.org
SUMMARY:Fellowship with coffee/snacks
DESCRIPTION:
URL:https://uppcdm.org/event/fellowship-with-coffee-snacks/
END:VEVENT
BEGIN:VEVENT
DTSTART;TZID=UTC:20251005T110000
DTEND;TZID=UTC:20251005T120000
DTSTAMP:20260424T041409
CREATED:20250924T174532Z
LAST-MODIFIED:20250924T174532Z
UID:943-1759662000-1759665600@uppcdm.org
SUMMARY:Worship/Communion
DESCRIPTION:
URL:https://uppcdm.org/event/worship-communion/
LOCATION:Union Park Presbyterian Church\, 1307 Thompson Ave.\, Des Moines\, Iowa
END:VEVENT
BEGIN:VEVENT
DTSTART;TZID=UTC:20251004T100000
DTEND;TZID=UTC:20251004T150000
DTSTAMP:20260424T041410
CREATED:20250924T193349Z
LAST-MODIFIED:20250924T193349Z
UID:999-1759572000-1759590000@uppcdm.org
SUMMARY:CAICUG Office Open\, Computer help and training
DESCRIPTION:
URL:https://uppcdm.org/event/caicug-office-open-computer-help-and-training/
END:VEVENT
BEGIN:VEVENT
DTSTART;TZID=UTC:20251002T123000
DTEND;TZID=UTC:20251002T133000
DTSTAMP:20260424T041410
CREATED:20250924T154339Z
LAST-MODIFIED:20250924T154603Z
UID:931-1759408200-1759411800@uppcdm.org
SUMMARY:Bible Study\, 1st & 3rd Thursday of the month
DESCRIPTION:
URL:https://uppcdm.org/event/session-3rd-wednesday-of-the-month/
LOCATION:UPPC Meeting Room
END:VEVENT
BEGIN:VEVENT
DTSTART;TZID=UTC:20251001T123000
DTEND;TZID=UTC:20251001T143000
DTSTAMP:20260424T041410
CREATED:20250924T190652Z
LAST-MODIFIED:20250924T190652Z
UID:974-1759321800-1759329000@uppcdm.org
SUMMARY:Presbyterian Women
DESCRIPTION:
URL:https://uppcdm.org/event/presbyterian-women-4/
END:VEVENT
BEGIN:VEVENT
DTSTART;TZID=UTC:20251001T090000
DTEND;TZID=UTC:20251001T100000
DTSTAMP:20260424T041410
CREATED:20250924T180031Z
LAST-MODIFIED:20250924T180031Z
UID:963-1759309200-1759312800@uppcdm.org
SUMMARY:Coffee/Fellowship
DESCRIPTION:
URL:https://uppcdm.org/event/coffee-fellowship-23/
END:VEVENT
BEGIN:VEVENT
DTSTART;TZID=UTC:20250928T110000
DTEND;TZID=UTC:20250928T120000
DTSTAMP:20260424T041410
CREATED:20250924T174108Z
LAST-MODIFIED:20250928T145000Z
UID:938-1759057200-1759060800@uppcdm.org
SUMMARY:Worship with Coffee\, snacks & Fellowship following
DESCRIPTION:
URL:https://uppcdm.org/event/worship-with-communion-coffee-snacks-fellowship-following/
LOCATION:Union Park Presbyterian Church\, 1307 Thompson Ave.\, Des Moines\, Iowa
END:VEVENT
BEGIN:VEVENT
DTSTART;TZID=UTC:20250927T100000
DTEND;TZID=UTC:20250927T150000
DTSTAMP:20260424T041410
CREATED:20250924T174321Z
LAST-MODIFIED:20250924T174321Z
UID:941-1758967200-1758985200@uppcdm.org
SUMMARY:CIAUG Office Open
DESCRIPTION:
URL:https://uppcdm.org/event/ciaug-office-open/
LOCATION:Union Park Presbyterian Church\, 1307 Thompson Ave.\, Des Moines\, Iowa
END:VEVENT
BEGIN:VEVENT
DTSTART;TZID=UTC:20250405T100000
DTEND;TZID=UTC:20250405T150000
DTSTAMP:20260424T041410
CREATED:20250225T214111Z
LAST-MODIFIED:20250225T214111Z
UID:869-1743847200-1743865200@uppcdm.org
SUMMARY:CIACUG office open
DESCRIPTION:
URL:https://uppcdm.org/event/ciacug-office-open-7/
END:VEVENT
BEGIN:VEVENT
DTSTART;TZID=UTC:20250403T123000
DTEND;TZID=UTC:20250403T170000
DTSTAMP:20260424T041410
CREATED:20250225T213008Z
LAST-MODIFIED:20250225T213008Z
UID:849-1743683400-1743699600@uppcdm.org
SUMMARY:Bible Study by Pastor Doug
DESCRIPTION:
URL:https://uppcdm.org/event/bible-study-by-pastor-doug-3/
LOCATION:UPPC Meeting Room
END:VEVENT
BEGIN:VEVENT
DTSTART;TZID=UTC:20250402T090000
DTEND;TZID=UTC:20250402T110000
DTSTAMP:20260424T041410
CREATED:20250225T212853Z
LAST-MODIFIED:20250225T212853Z
UID:847-1743584400-1743591600@uppcdm.org
SUMMARY:Coffee Fellowship
DESCRIPTION:
URL:https://uppcdm.org/event/coffee-fellowship-21/
END:VEVENT
BEGIN:VEVENT
DTSTART;TZID=UTC:20250330T120000
DTEND;TZID=UTC:20250330T130000
DTSTAMP:20260424T041410
CREATED:20250225T200539Z
LAST-MODIFIED:20250225T200539Z
UID:813-1743336000-1743339600@uppcdm.org
SUMMARY:Coffee & Fellowship
DESCRIPTION:
URL:https://uppcdm.org/event/coffee-fellowship-16/
END:VEVENT
BEGIN:VEVENT
DTSTART;TZID=UTC:20250330T110000
DTEND;TZID=UTC:20250330T120000
DTSTAMP:20260424T041410
CREATED:20250225T200424Z
LAST-MODIFIED:20250225T200424Z
UID:811-1743332400-1743336000@uppcdm.org
SUMMARY:Worship
DESCRIPTION:
URL:https://uppcdm.org/event/worship-9/
END:VEVENT
BEGIN:VEVENT
DTSTART;TZID=UTC:20250329T100000
DTEND;TZID=UTC:20250329T150000
DTSTAMP:20260424T041410
CREATED:20250225T214010Z
LAST-MODIFIED:20250225T214010Z
UID:867-1743242400-1743260400@uppcdm.org
SUMMARY:CIACUG office open
DESCRIPTION:
URL:https://uppcdm.org/event/ciacug-office-open-6/
END:VEVENT
BEGIN:VEVENT
DTSTART;TZID=UTC:20250326T090000
DTEND;TZID=UTC:20250326T110000
DTSTAMP:20260424T041410
CREATED:20250225T211109Z
LAST-MODIFIED:20250225T211109Z
UID:839-1742979600-1742986800@uppcdm.org
SUMMARY:Coffee Fellowship
DESCRIPTION:
URL:https://uppcdm.org/event/coffee-fellowship-20/
END:VEVENT
BEGIN:VEVENT
DTSTART;TZID=UTC:20250323T120000
DTEND;TZID=UTC:20250323T130000
DTSTAMP:20260424T041410
CREATED:20250225T200319Z
LAST-MODIFIED:20250225T200319Z
UID:809-1742731200-1742734800@uppcdm.org
SUMMARY:Coffee & Fellowship
DESCRIPTION:
URL:https://uppcdm.org/event/coffee-fellowship-15/
END:VEVENT
BEGIN:VEVENT
DTSTART;TZID=UTC:20250323T120000
DTEND;TZID=UTC:20250323T130000
DTSTAMP:20260424T041410
CREATED:20250225T200157Z
LAST-MODIFIED:20250225T200157Z
UID:807-1742731200-1742734800@uppcdm.org
SUMMARY:Worship
DESCRIPTION:
URL:https://uppcdm.org/event/worship-8/
END:VEVENT
BEGIN:VEVENT
DTSTART;TZID=UTC:20250322T100000
DTEND;TZID=UTC:20250322T150000
DTSTAMP:20260424T041410
CREATED:20250225T213923Z
LAST-MODIFIED:20250225T213923Z
UID:865-1742637600-1742655600@uppcdm.org
SUMMARY:CIACUG office open
DESCRIPTION:
URL:https://uppcdm.org/event/ciacug-office-open-5/
END:VEVENT
BEGIN:VEVENT
DTSTART;TZID=UTC:20250320T123000
DTEND;TZID=UTC:20250320T123000
DTSTAMP:20260424T041410
CREATED:20250225T211340Z
LAST-MODIFIED:20250924T153630Z
UID:843-1742473800-1742473800@uppcdm.org
SUMMARY:Bible Study by Pastor Doug
DESCRIPTION:
URL:https://uppcdm.org/event/bible-study-by-pastor-doug/
LOCATION:UPPC Meeting Room
END:VEVENT
BEGIN:VEVENT
DTSTART;TZID=UTC:20250319T183000
DTEND;TZID=UTC:20250319T200000
DTSTAMP:20260424T041410
CREATED:20250225T210950Z
LAST-MODIFIED:20250225T210950Z
UID:837-1742409000-1742414400@uppcdm.org
SUMMARY:Session
DESCRIPTION:
URL:https://uppcdm.org/event/session/
LOCATION:UPPC Meeting Room
END:VEVENT
BEGIN:VEVENT
DTSTART;TZID=UTC:20250319T090000
DTEND;TZID=UTC:20250319T110000
DTSTAMP:20260424T041410
CREATED:20250225T202426Z
LAST-MODIFIED:20250225T202426Z
UID:833-1742374800-1742382000@uppcdm.org
SUMMARY:Coffee fellowship
DESCRIPTION:
URL:https://uppcdm.org/event/coffee-fellowship-19/
END:VEVENT
BEGIN:VEVENT
DTSTART;TZID=UTC:20250318T000000
DTEND;TZID=UTC:20250318T000000
DTSTAMP:20260424T041410
CREATED:20250225T201456Z
LAST-MODIFIED:20250225T201456Z
UID:821-1742256000-1742256000@uppcdm.org
SUMMARY:Press deadline
DESCRIPTION:
URL:https://uppcdm.org/event/press-deadline-2/
END:VEVENT
BEGIN:VEVENT
DTSTART;TZID=UTC:20250316T120000
DTEND;TZID=UTC:20250316T130000
DTSTAMP:20260424T041410
CREATED:20250225T200713Z
LAST-MODIFIED:20250225T200713Z
UID:815-1742126400-1742130000@uppcdm.org
SUMMARY:Committee Meetings
DESCRIPTION:
URL:https://uppcdm.org/event/committee-meetings/
END:VEVENT
BEGIN:VEVENT
DTSTART;TZID=UTC:20250316T120000
DTEND;TZID=UTC:20250316T130000
DTSTAMP:20260424T041410
CREATED:20250225T200004Z
LAST-MODIFIED:20250225T200004Z
UID:805-1742126400-1742130000@uppcdm.org
SUMMARY:Coffee & Fellowship
DESCRIPTION:
URL:https://uppcdm.org/event/coffee-fellowship-14/
END:VEVENT
END:VCALENDAR