BEGIN:VCALENDAR
VERSION:2.0
PRODID:-//uppcdm - ECPv6.15.20//NONSGML v1.0//EN
CALSCALE:GREGORIAN
METHOD:PUBLISH
X-ORIGINAL-URL:https://uppcdm.org
X-WR-CALDESC:Events for uppcdm
REFRESH-INTERVAL;VALUE=DURATION:PT1H
X-Robots-Tag:noindex
X-PUBLISHED-TTL:PT1H
BEGIN:VTIMEZONE
TZID:UTC
BEGIN:STANDARD
TZOFFSETFROM:+0000
TZOFFSETTO:+0000
TZNAME:UTC
DTSTART:20250101T000000
END:STANDARD
END:VTIMEZONE
BEGIN:VEVENT
DTSTART;TZID=UTC:20260217T183000
DTEND;TZID=UTC:20260217T200000
DTSTAMP:20260423T220549
CREATED:20260201T201822Z
LAST-MODIFIED:20260201T201822Z
UID:1425-1771353000-1771358400@uppcdm.org
SUMMARY:Session Meeting
DESCRIPTION:
URL:https://uppcdm.org/event/session-meeting-5/
LOCATION:UPPC Meeting Room
END:VEVENT
BEGIN:VEVENT
DTSTART;TZID=UTC:20260218T090000
DTEND;TZID=UTC:20260218T110000
DTSTAMP:20260423T220549
CREATED:20251224T180423Z
LAST-MODIFIED:20251224T180423Z
UID:1394-1771405200-1771412400@uppcdm.org
SUMMARY:Coffee/Fellowship
DESCRIPTION:
URL:https://uppcdm.org/event/coffee-fellowship-55/
LOCATION:Union Park Presbyterian Church Fellowship Hall\, 1307 Thompson Ave.\, Des Moines\, Iowa
END:VEVENT
BEGIN:VEVENT
DTSTART;TZID=UTC:20260218T090000
DTEND;TZID=UTC:20260218T130000
DTSTAMP:20260423T220549
CREATED:20260110T195753Z
LAST-MODIFIED:20260115T181610Z
UID:1415-1771405200-1771419600@uppcdm.org
SUMMARY:Office Open
DESCRIPTION:
URL:https://uppcdm.org/event/office-open-3/
LOCATION:Union Park Presbyterian Church\, 1307 Thompson Ave.\, Des Moines\, Iowa
ORGANIZER;CN="Dorothy Quartey":MAILTO:office.uppc@gmail.com
END:VEVENT
BEGIN:VEVENT
DTSTART;TZID=UTC:20260218T180000
DTEND;TZID=UTC:20260218T200000
DTSTAMP:20260423T220549
CREATED:20260209T165823Z
LAST-MODIFIED:20260209T165823Z
UID:1511-1771437600-1771444800@uppcdm.org
SUMMARY:Ash Wednesday Service
DESCRIPTION:A Soup Supper will follow Service\, please join us!
URL:https://uppcdm.org/event/ash-wednesday-service/
LOCATION:Union Park Presbyterian Church\, 1307 Thompson Ave.\, Des Moines\, Iowa
END:VEVENT
BEGIN:VEVENT
DTSTART;TZID=UTC:20260219T123000
DTEND;TZID=UTC:20260219T133000
DTSTAMP:20260423T220549
CREATED:20260201T202758Z
LAST-MODIFIED:20260217T215128Z
UID:1437-1771504200-1771507800@uppcdm.org
SUMMARY:Bible Study Cancelled
DESCRIPTION:
URL:https://uppcdm.org/event/bible-study-8/
LOCATION:UPPC Meeting Room
END:VEVENT
BEGIN:VEVENT
DTSTART;TZID=UTC:20260221T100000
DTEND;TZID=UTC:20260221T140000
DTSTAMP:20260423T220549
CREATED:20251224T161807Z
LAST-MODIFIED:20260107T161159Z
UID:1352-1771668000-1771682400@uppcdm.org
SUMMARY:CIACUG Office Open
DESCRIPTION:
URL:https://uppcdm.org/event/ciacug-office-open-22/
LOCATION:3rd Floor Meeting Room\, 1307 Thompson Avenue\, Des Moines\, Iowa\, 50316\, United States
END:VEVENT
BEGIN:VEVENT
DTSTART;VALUE=DATE:20260222
DTEND;VALUE=DATE:20260223
DTSTAMP:20260423T220549
CREATED:20251224T163757Z
LAST-MODIFIED:20260110T195215Z
UID:1365-1771718400-1771804799@uppcdm.org
SUMMARY:1st Sunday in Lent
DESCRIPTION:
URL:https://uppcdm.org/event/8th-sunday-after-epiphany/
END:VEVENT
BEGIN:VEVENT
DTSTART;TZID=UTC:20260222T110000
DTEND;TZID=UTC:20260222T120000
DTSTAMP:20260423T220549
CREATED:20251224T165516Z
LAST-MODIFIED:20251224T165516Z
UID:1371-1771758000-1771761600@uppcdm.org
SUMMARY:Worship Service
DESCRIPTION:
URL:https://uppcdm.org/event/worship-service-9/
END:VEVENT
BEGIN:VEVENT
DTSTART;TZID=UTC:20260222T120000
DTEND;TZID=UTC:20260222T130000
DTSTAMP:20260423T220549
CREATED:20251224T174959Z
LAST-MODIFIED:20251224T174959Z
UID:1384-1771761600-1771765200@uppcdm.org
SUMMARY:Coffee/Fellowship
DESCRIPTION:
URL:https://uppcdm.org/event/coffee-fellowship-52/
LOCATION:Union Park Presbyterian Church Fellowship Hall\, 1307 Thompson Ave.\, Des Moines\, Iowa
END:VEVENT
BEGIN:VEVENT
DTSTART;VALUE=DATE:20260224
DTEND;VALUE=DATE:20260225
DTSTAMP:20260423T220549
CREATED:20251224T180035Z
LAST-MODIFIED:20251224T180035Z
UID:1388-1771891200-1771977599@uppcdm.org
SUMMARY:Press Deadline
DESCRIPTION:
URL:https://uppcdm.org/event/press-deadline-5/
END:VEVENT
BEGIN:VEVENT
DTSTART;TZID=UTC:20260225T090000
DTEND;TZID=UTC:20260225T110000
DTSTAMP:20260423T220549
CREATED:20251224T180546Z
LAST-MODIFIED:20251224T180546Z
UID:1397-1772010000-1772017200@uppcdm.org
SUMMARY:Coffee/Fellowship
DESCRIPTION:
URL:https://uppcdm.org/event/coffee-fellowship-56/
LOCATION:Union Park Presbyterian Church Fellowship Hall\, 1307 Thompson Ave.\, Des Moines\, Iowa
END:VEVENT
BEGIN:VEVENT
DTSTART;TZID=UTC:20260225T090000
DTEND;TZID=UTC:20260225T130000
DTSTAMP:20260423T220549
CREATED:20260110T195850Z
LAST-MODIFIED:20260110T195850Z
UID:1417-1772010000-1772024400@uppcdm.org
SUMMARY:Office Open
DESCRIPTION:
URL:https://uppcdm.org/event/office-open-4/
LOCATION:Union Park Presbyterian Church\, 1307 Thompson Ave.\, Des Moines\, Iowa
ORGANIZER;CN="Dorothy Quartey":MAILTO:office.uppc@gmail.com
END:VEVENT
BEGIN:VEVENT
DTSTART;TZID=UTC:20260225T090000
DTEND;TZID=UTC:20260225T130000
DTSTAMP:20260423T220549
CREATED:20260217T215405Z
LAST-MODIFIED:20260217T215434Z
UID:1522-1772010000-1772024400@uppcdm.org
SUMMARY:Office Open every Wednesday Only
DESCRIPTION:
URL:https://uppcdm.org/event/office-open-every-wednesday-only/
END:VEVENT
BEGIN:VEVENT
DTSTART;TZID=UTC:20260225T110000
DTEND;TZID=UTC:20260225T120000
DTSTAMP:20260423T220549
CREATED:20260201T202527Z
LAST-MODIFIED:20260201T202527Z
UID:1433-1772017200-1772020800@uppcdm.org
SUMMARY:Slow Down Coffee with Pastor Doug
DESCRIPTION:
URL:https://uppcdm.org/event/slow-down-coffee-with-pastor-doug-6/
LOCATION:Slow Down Coffee Shop\, 3613 6th Avenue\, Des Moines\, Iowa
END:VEVENT
BEGIN:VEVENT
DTSTART;TZID=UTC:20260228T100000
DTEND;TZID=UTC:20260228T140000
DTSTAMP:20260423T220549
CREATED:20251224T162845Z
LAST-MODIFIED:20260107T161102Z
UID:1355-1772272800-1772287200@uppcdm.org
SUMMARY:CIACUG Office Open
DESCRIPTION:
URL:https://uppcdm.org/event/ciacug-office-open-23/
LOCATION:3rd Floor Meeting Room\, 1307 Thompson Avenue\, Des Moines\, Iowa\, 50316\, United States
END:VEVENT
BEGIN:VEVENT
DTSTART;VALUE=DATE:20260301
DTEND;VALUE=DATE:20260302
DTSTAMP:20260423T220549
CREATED:20260203T164524Z
LAST-MODIFIED:20260203T164524Z
UID:1440-1772323200-1772409599@uppcdm.org
SUMMARY:2nd Sunday in Lent
DESCRIPTION:
URL:https://uppcdm.org/event/2nd-sunday-in-lent/
END:VEVENT
BEGIN:VEVENT
DTSTART;TZID=UTC:20260301T110000
DTEND;TZID=UTC:20260301T120000
DTSTAMP:20260423T220549
CREATED:20260203T171349Z
LAST-MODIFIED:20260203T171349Z
UID:1456-1772362800-1772366400@uppcdm.org
SUMMARY:Worship with Communion
DESCRIPTION:
URL:https://uppcdm.org/event/worship-with-communion-5/
END:VEVENT
BEGIN:VEVENT
DTSTART;TZID=UTC:20260301T120000
DTEND;TZID=UTC:20260301T130000
DTSTAMP:20260423T220549
CREATED:20260203T171503Z
LAST-MODIFIED:20260203T171503Z
UID:1458-1772366400-1772370000@uppcdm.org
SUMMARY:Coffee/Fellowship
DESCRIPTION:
URL:https://uppcdm.org/event/coffee-fellowship-41/
LOCATION:Union Park Presbyterian Church Fellowship Hall\, 1307 Thompson Ave.\, Des Moines\, Iowa
END:VEVENT
BEGIN:VEVENT
DTSTART;TZID=UTC:20260304T090000
DTEND;TZID=UTC:20260304T110000
DTSTAMP:20260423T220549
CREATED:20260217T220145Z
LAST-MODIFIED:20260217T220257Z
UID:1530-1772614800-1772622000@uppcdm.org
SUMMARY:Coffee Fellowship
DESCRIPTION:
URL:https://uppcdm.org/event/coffee-fellowship-64/
LOCATION:Union Park Presbyterian Church Fellowship Hall\, 1307 Thompson Ave.\, Des Moines\, Iowa
END:VEVENT
BEGIN:VEVENT
DTSTART;TZID=UTC:20260304T090000
DTEND;TZID=UTC:20260304T110000
DTSTAMP:20260423T220549
CREATED:20260217T221246Z
LAST-MODIFIED:20260217T221246Z
UID:1528-1772614800-1772622000@uppcdm.org
SUMMARY:Coffee Fellowship
DESCRIPTION:
URL:https://uppcdm.org/event/coffee-fellowship-65/
LOCATION:Union Park Presbyterian Church Fellowship Hall\, 1307 Thompson Ave.\, Des Moines\, Iowa
END:VEVENT
BEGIN:VEVENT
DTSTART;TZID=UTC:20260304T090000
DTEND;TZID=UTC:20260304T130000
DTSTAMP:20260423T220549
CREATED:20260217T215555Z
LAST-MODIFIED:20260217T215555Z
UID:1524-1772614800-1772629200@uppcdm.org
SUMMARY:Office Open Wednesdays only
DESCRIPTION:
URL:https://uppcdm.org/event/office-open-wednesdays-only/
END:VEVENT
BEGIN:VEVENT
DTSTART;TZID=UTC:20260304T123000
DTEND;TZID=UTC:20260304T143000
DTSTAMP:20260423T220549
CREATED:20260203T173235Z
LAST-MODIFIED:20260301T160353Z
UID:1478-1772627400-1772634600@uppcdm.org
SUMMARY:Presbyterian Women Meeting
DESCRIPTION:
URL:https://uppcdm.org/event/presbyterian-women-meeting/
LOCATION:Union Park Presbyterian Church Fellowship Hall\, 1307 Thompson Ave.\, Des Moines\, Iowa
END:VEVENT
BEGIN:VEVENT
DTSTART;TZID=UTC:20260305T123000
DTEND;TZID=UTC:20260305T133000
DTSTAMP:20260423T220549
CREATED:20260209T170217Z
LAST-MODIFIED:20260218T162729Z
UID:1513-1772713800-1772717400@uppcdm.org
SUMMARY:Bible Study Cancelled Today
DESCRIPTION:
URL:https://uppcdm.org/event/bible-study-9/
LOCATION:Union Park Presbyterian Church\, 1307 Thompson Ave.\, Des Moines\, Iowa
END:VEVENT
BEGIN:VEVENT
DTSTART;VALUE=DATE:20260306
DTEND;VALUE=DATE:20260307
DTSTAMP:20260423T220549
CREATED:20260203T165346Z
LAST-MODIFIED:20260203T165432Z
UID:1454-1772755200-1772841599@uppcdm.org
SUMMARY:World Day of Prayer
DESCRIPTION:
URL:https://uppcdm.org/event/world-day-of-prayer-2/
END:VEVENT
BEGIN:VEVENT
DTSTART;TZID=UTC:20260307T100000
DTEND;TZID=UTC:20260307T140000
DTSTAMP:20260423T220549
CREATED:20260203T173539Z
LAST-MODIFIED:20260203T173836Z
UID:1482-1772877600-1772892000@uppcdm.org
SUMMARY:CIACUG Office Open
DESCRIPTION:
URL:https://uppcdm.org/event/ciacug-office-open-24/
LOCATION:3rd Floor Meeting Room\, 1307 Thompson Avenue\, Des Moines\, Iowa\, 50316\, United States
END:VEVENT
BEGIN:VEVENT
DTSTART;VALUE=DATE:20260308
DTEND;VALUE=DATE:20260309
DTSTAMP:20260423T220549
CREATED:20260203T164611Z
LAST-MODIFIED:20260203T164611Z
UID:1442-1772928000-1773014399@uppcdm.org
SUMMARY:3rd Sunday in Lent
DESCRIPTION:
URL:https://uppcdm.org/event/3rd-sunday-in-lent/
END:VEVENT
BEGIN:VEVENT
DTSTART;TZID=UTC:20260308T110000
DTEND;TZID=UTC:20260308T120000
DTSTAMP:20260423T220549
CREATED:20260203T171632Z
LAST-MODIFIED:20260203T171632Z
UID:1460-1772967600-1772971200@uppcdm.org
SUMMARY:Worship Service
DESCRIPTION:
URL:https://uppcdm.org/event/worship-service-11/
END:VEVENT
BEGIN:VEVENT
DTSTART;TZID=UTC:20260308T120000
DTEND;TZID=UTC:20260308T130000
DTSTAMP:20260423T220549
CREATED:20260203T171747Z
LAST-MODIFIED:20260203T171747Z
UID:1462-1772971200-1772974800@uppcdm.org
SUMMARY:Coffee/Fellowship
DESCRIPTION:
URL:https://uppcdm.org/event/coffee-fellowship-58/
LOCATION:Union Park Presbyterian Church Fellowship Hall\, 1307 Thompson Ave.\, Des Moines\, Iowa
END:VEVENT
BEGIN:VEVENT
DTSTART;TZID=UTC:20260309T183000
DTEND;TZID=UTC:20260309T200000
DTSTAMP:20260423T220549
CREATED:20260222T161901Z
LAST-MODIFIED:20260222T161901Z
UID:1550-1773081000-1773086400@uppcdm.org
SUMMARY:Book Club with Pastor Basler
DESCRIPTION:This month we are reading Mink River by Brian Doyle at the Church.  6:30 PM. Join us for fun and insights.
URL:https://uppcdm.org/event/book-club-with-pastor-basler/
LOCATION:Union Park Presbyterian Church\, 1307 Thompson Ave.\, Des Moines\, Iowa
END:VEVENT
BEGIN:VEVENT
DTSTART;TZID=UTC:20260310T190000
DTEND;TZID=UTC:20260310T200000
DTSTAMP:20260423T220549
CREATED:20260203T172712Z
LAST-MODIFIED:20260203T172712Z
UID:1474-1773169200-1773172800@uppcdm.org
SUMMARY:CIACUG Computer Club Meeting
DESCRIPTION:
URL:https://uppcdm.org/event/ciacug-computer-club-meeting-6/
LOCATION:3rd Floor Meeting Room\, 1307 Thompson Avenue\, Des Moines\, Iowa\, 50316\, United States
END:VEVENT
END:VCALENDAR