BEGIN:VCALENDAR
VERSION:2.0
PRODID:-//uppcdm - ECPv6.15.20//NONSGML v1.0//EN
CALSCALE:GREGORIAN
METHOD:PUBLISH
X-WR-CALNAME:uppcdm
X-ORIGINAL-URL:https://uppcdm.org
X-WR-CALDESC:Events for uppcdm
REFRESH-INTERVAL;VALUE=DURATION:PT1H
X-Robots-Tag:noindex
X-PUBLISHED-TTL:PT1H
BEGIN:VTIMEZONE
TZID:UTC
BEGIN:STANDARD
TZOFFSETFROM:+0000
TZOFFSETTO:+0000
TZNAME:UTC
DTSTART:20240101T000000
END:STANDARD
END:VTIMEZONE
BEGIN:VEVENT
DTSTART;TZID=UTC:20251012T110000
DTEND;TZID=UTC:20251012T120000
DTSTAMP:20260424T132909
CREATED:20250924T175131Z
LAST-MODIFIED:20250924T175131Z
UID:951-1760266800-1760270400@uppcdm.org
SUMMARY:Worship
DESCRIPTION:
URL:https://uppcdm.org/event/worship-11/
LOCATION:Union Park Presbyterian Church\, 1307 Thompson Ave.\, Des Moines\, Iowa
END:VEVENT
BEGIN:VEVENT
DTSTART;TZID=UTC:20251012T120000
DTEND;TZID=UTC:20251012T130000
DTSTAMP:20260424T132909
CREATED:20250928T150253Z
LAST-MODIFIED:20250928T150253Z
UID:1021-1760270400-1760274000@uppcdm.org
SUMMARY:Fellowship with coffee/snacks
DESCRIPTION:
URL:https://uppcdm.org/event/fellowship-with-coffee-snacks-2/
END:VEVENT
BEGIN:VEVENT
DTSTART;TZID=UTC:20251014T190000
DTEND;TZID=UTC:20251014T200000
DTSTAMP:20260424T132909
CREATED:20250924T173650Z
LAST-MODIFIED:20250924T173650Z
UID:936-1760468400-1760472000@uppcdm.org
SUMMARY:CIACUG Computer Club Meeting
DESCRIPTION:
URL:https://uppcdm.org/event/ciacug-computer-club-meeting/
LOCATION:Union Park Presbyterian Church\, 1307 Thompson Ave.\, Des Moines\, Iowa
END:VEVENT
BEGIN:VEVENT
DTSTART;TZID=UTC:20251015T090000
DTEND;TZID=UTC:20251015T100000
DTSTAMP:20260424T132909
CREATED:20250924T180517Z
LAST-MODIFIED:20250924T180517Z
UID:968-1760518800-1760522400@uppcdm.org
SUMMARY:Coffee/Fellowship
DESCRIPTION:
URL:https://uppcdm.org/event/coffee-fellowship-25/
END:VEVENT
BEGIN:VEVENT
DTSTART;TZID=UTC:20251015T110000
DTEND;TZID=UTC:20251015T120000
DTSTAMP:20260424T132909
CREATED:20250924T192028Z
LAST-MODIFIED:20250924T192028Z
UID:982-1760526000-1760529600@uppcdm.org
SUMMARY:Coffee with the Pastor
DESCRIPTION:Spiritual Health Reflection\, getting to know Ourselves.
URL:https://uppcdm.org/event/coffee-with-the-pastor/
LOCATION:Slow Down Coffee Shop\, 3613 6th Avenue\, Des Moines\, Iowa
END:VEVENT
BEGIN:VEVENT
DTSTART;TZID=UTC:20251015T130000
DTEND;TZID=UTC:20251015T140000
DTSTAMP:20260424T132909
CREATED:20250924T190925Z
LAST-MODIFIED:20250924T190925Z
UID:979-1760533200-1760536800@uppcdm.org
SUMMARY:Choir Rehearsal
DESCRIPTION:
URL:https://uppcdm.org/event/choir-rehearsal-2/
END:VEVENT
BEGIN:VEVENT
DTSTART;TZID=UTC:20251015T183000
DTEND;TZID=UTC:20251015T200000
DTSTAMP:20260424T132909
CREATED:20250924T192319Z
LAST-MODIFIED:20250924T192319Z
UID:985-1760553000-1760558400@uppcdm.org
SUMMARY:Session
DESCRIPTION:Every 3rd Wednesday
URL:https://uppcdm.org/event/session-2/
LOCATION:UPPC Meeting Room
END:VEVENT
BEGIN:VEVENT
DTSTART;TZID=UTC:20251016T123000
DTEND;TZID=UTC:20251016T133000
DTSTAMP:20260424T132909
CREATED:20250924T151121Z
LAST-MODIFIED:20250924T152559Z
UID:917-1760617800-1760621400@uppcdm.org
SUMMARY:Bible Study\,  1st & 3rd Thursdays of the month
DESCRIPTION:
URL:https://uppcdm.org/event/coffee-fellowship-22/
LOCATION:UPPC Meeting Room
END:VEVENT
BEGIN:VEVENT
DTSTART;TZID=UTC:20251018T100000
DTEND;TZID=UTC:20251018T150000
DTSTAMP:20260424T132909
CREATED:20250924T193613Z
LAST-MODIFIED:20250924T193613Z
UID:1003-1760781600-1760799600@uppcdm.org
SUMMARY:CAICUG Office Open\, help & training
DESCRIPTION:
URL:https://uppcdm.org/event/caicug-office-open-help-training/
END:VEVENT
BEGIN:VEVENT
DTSTART;TZID=UTC:20251019T110000
DTEND;TZID=UTC:20251019T120000
DTSTAMP:20260424T132909
CREATED:20250924T175235Z
LAST-MODIFIED:20250924T175235Z
UID:953-1760871600-1760875200@uppcdm.org
SUMMARY:Worship
DESCRIPTION:
URL:https://uppcdm.org/event/worship-12/
LOCATION:Union Park Presbyterian Church\, 1307 Thompson Ave.\, Des Moines\, Iowa
END:VEVENT
BEGIN:VEVENT
DTSTART;TZID=UTC:20251019T120000
DTEND;TZID=UTC:20251019T130000
DTSTAMP:20260424T132909
CREATED:20250924T175611Z
LAST-MODIFIED:20250924T175611Z
UID:959-1760875200-1760878800@uppcdm.org
SUMMARY:Coffee\, Snacks\, Fellowship
DESCRIPTION:
URL:https://uppcdm.org/event/coffee-snacks-fellowship-2/
END:VEVENT
BEGIN:VEVENT
DTSTART;TZID=UTC:20251022T090000
DTEND;TZID=UTC:20251022T100000
DTSTAMP:20260424T132909
CREATED:20250924T180608Z
LAST-MODIFIED:20250924T180608Z
UID:970-1761123600-1761127200@uppcdm.org
SUMMARY:Coffee/Fellowship
DESCRIPTION:
URL:https://uppcdm.org/event/coffee-fellowship-26/
END:VEVENT
BEGIN:VEVENT
DTSTART;TZID=UTC:20251022T110000
DTEND;TZID=UTC:20251022T120000
DTSTAMP:20260424T132909
CREATED:20250924T192629Z
LAST-MODIFIED:20250924T192629Z
UID:989-1761130800-1761134400@uppcdm.org
SUMMARY:Coffee with Pastor Doug
DESCRIPTION:
URL:https://uppcdm.org/event/coffee-with-pastor-doug/
LOCATION:Slow Down Coffee Shop\, 3613 6th Avenue\, Des Moines\, Iowa
END:VEVENT
BEGIN:VEVENT
DTSTART;TZID=UTC:20251022T130000
DTEND;TZID=UTC:20251022T140000
DTSTAMP:20260424T132909
CREATED:20250924T192746Z
LAST-MODIFIED:20250924T192746Z
UID:991-1761138000-1761141600@uppcdm.org
SUMMARY:Choir Rehearsal
DESCRIPTION:
URL:https://uppcdm.org/event/choir-rehearsal-3/
END:VEVENT
BEGIN:VEVENT
DTSTART;TZID=UTC:20251025T100000
DTEND;TZID=UTC:20251025T150000
DTSTAMP:20260424T132909
CREATED:20250924T193717Z
LAST-MODIFIED:20250924T193717Z
UID:1005-1761386400-1761404400@uppcdm.org
SUMMARY:CIACUG Office Open\, help & training
DESCRIPTION:
URL:https://uppcdm.org/event/ciacug-office-open-help-training-2/
END:VEVENT
BEGIN:VEVENT
DTSTART;TZID=UTC:20251026T110000
DTEND;TZID=UTC:20251026T120000
DTSTAMP:20260424T132909
CREATED:20250924T175339Z
LAST-MODIFIED:20250924T175339Z
UID:955-1761476400-1761480000@uppcdm.org
SUMMARY:Worship
DESCRIPTION:
URL:https://uppcdm.org/event/worship-13/
LOCATION:Union Park Presbyterian Church\, 1307 Thompson Ave.\, Des Moines\, Iowa
END:VEVENT
BEGIN:VEVENT
DTSTART;TZID=UTC:20251026T123000
DTEND;TZID=UTC:20251026T130000
DTSTAMP:20260424T132909
CREATED:20250924T175722Z
LAST-MODIFIED:20250924T175722Z
UID:961-1761481800-1761483600@uppcdm.org
SUMMARY:Coffee\, Snacks\, Fellowship
DESCRIPTION:
URL:https://uppcdm.org/event/coffee-snacks-fellowship-3/
END:VEVENT
BEGIN:VEVENT
DTSTART;TZID=UTC:20251029T090000
DTEND;TZID=UTC:20251029T100000
DTSTAMP:20260424T132909
CREATED:20250924T192901Z
LAST-MODIFIED:20250924T192901Z
UID:993-1761728400-1761732000@uppcdm.org
SUMMARY:Coffee Fellowship
DESCRIPTION:
URL:https://uppcdm.org/event/coffee-fellowship-29/
END:VEVENT
BEGIN:VEVENT
DTSTART;TZID=UTC:20251029T110000
DTEND;TZID=UTC:20251029T120000
DTSTAMP:20260424T132909
CREATED:20250924T193018Z
LAST-MODIFIED:20250924T193018Z
UID:995-1761735600-1761739200@uppcdm.org
SUMMARY:Coffee with Pastor Doug
DESCRIPTION:
URL:https://uppcdm.org/event/coffee-with-pastor-doug-2/
LOCATION:Slow Down Coffee Shop\, 3613 6th Avenue\, Des Moines\, Iowa
END:VEVENT
BEGIN:VEVENT
DTSTART;TZID=UTC:20251029T130000
DTEND;TZID=UTC:20251029T140000
DTSTAMP:20260424T132909
CREATED:20250924T193118Z
LAST-MODIFIED:20250924T193118Z
UID:997-1761742800-1761746400@uppcdm.org
SUMMARY:Choir Rehearsal
DESCRIPTION:
URL:https://uppcdm.org/event/choir-rehearsal-4/
END:VEVENT
BEGIN:VEVENT
DTSTART;TZID=UTC:20251101T100000
DTEND;TZID=UTC:20251101T150000
DTSTAMP:20260424T132909
CREATED:20251008T155223Z
LAST-MODIFIED:20251008T155223Z
UID:1087-1761991200-1762009200@uppcdm.org
SUMMARY:CIACUG office open
DESCRIPTION:
URL:https://uppcdm.org/event/ciacug-office-open-9/
END:VEVENT
BEGIN:VEVENT
DTSTART;TZID=UTC:20251101T100000
DTEND;TZID=UTC:20251101T150000
DTSTAMP:20260424T132909
CREATED:20251022T150204Z
LAST-MODIFIED:20251022T150716Z
UID:1134-1761991200-1762009200@uppcdm.org
SUMMARY:Book Launch Party
DESCRIPTION:Book signing\, reading from the book and food will be provided.
URL:https://uppcdm.org/event/rev-dr-basler-book-signing/
LOCATION:First Presbyterian Church\, 410 SE 3rd St.\, Grimes\, IA\, 50111\, United States
END:VEVENT
BEGIN:VEVENT
DTSTART;VALUE=DATE:20251102
DTEND;VALUE=DATE:20251103
DTSTAMP:20260424T132909
CREATED:20251008T150255Z
LAST-MODIFIED:20251008T150255Z
UID:1034-1762041600-1762127999@uppcdm.org
SUMMARY:Daylight Saving Time Ends
DESCRIPTION:
URL:https://uppcdm.org/event/daylight-saving-time-ends/
END:VEVENT
BEGIN:VEVENT
DTSTART;VALUE=DATE:20251102
DTEND;VALUE=DATE:20251103
DTSTAMP:20260424T132909
CREATED:20251022T142759Z
LAST-MODIFIED:20251022T142759Z
UID:1109-1762041600-1762127999@uppcdm.org
SUMMARY:21st Sunday after Pentecost
DESCRIPTION:
URL:https://uppcdm.org/event/21st-sunday-after-pentecost/
END:VEVENT
BEGIN:VEVENT
DTSTART;TZID=UTC:20251102T110000
DTEND;TZID=UTC:20251102T120000
DTSTAMP:20260424T132909
CREATED:20251008T151441Z
LAST-MODIFIED:20251008T151441Z
UID:1044-1762081200-1762084800@uppcdm.org
SUMMARY:Worship Service
DESCRIPTION:
URL:https://uppcdm.org/event/worship-service-3/
LOCATION:Union Park Presbyterian Church\, 1307 Thompson Ave.\, Des Moines\, Iowa
END:VEVENT
BEGIN:VEVENT
DTSTART;TZID=UTC:20251102T120000
DTEND;TZID=UTC:20251102T130000
DTSTAMP:20260424T132909
CREATED:20251008T150126Z
LAST-MODIFIED:20251008T150126Z
UID:1032-1762084800-1762088400@uppcdm.org
SUMMARY:Coffee/Fellowship
DESCRIPTION:
URL:https://uppcdm.org/event/coffee-fellowship-27/
END:VEVENT
BEGIN:VEVENT
DTSTART;TZID=UTC:20251104T070000
DTEND;TZID=UTC:20251104T200000
DTSTAMP:20260424T132909
CREATED:20251008T152529Z
LAST-MODIFIED:20251008T152529Z
UID:1056-1762239600-1762286400@uppcdm.org
SUMMARY:Election Day
DESCRIPTION:
URL:https://uppcdm.org/event/election-day/
END:VEVENT
BEGIN:VEVENT
DTSTART;TZID=UTC:20251105T090000
DTEND;TZID=UTC:20251105T100000
DTSTAMP:20260424T132909
CREATED:20251008T153506Z
LAST-MODIFIED:20251008T153506Z
UID:1066-1762333200-1762336800@uppcdm.org
SUMMARY:UPPC Coffee/Fellowship
DESCRIPTION:
URL:https://uppcdm.org/event/uppc-coffee-fellowship/
END:VEVENT
BEGIN:VEVENT
DTSTART;TZID=UTC:20251105T123000
DTEND;TZID=UTC:20251105T140000
DTSTAMP:20260424T132909
CREATED:20251008T153855Z
LAST-MODIFIED:20251008T153855Z
UID:1068-1762345800-1762351200@uppcdm.org
SUMMARY:Presbyterian Women Meet
DESCRIPTION:Reading “Bad Girls of the Bible”
URL:https://uppcdm.org/event/presbyterian-women-meet/
LOCATION:Union Park Presbyterian Church Fellowship Hall\, 1307 Thompson Ave.\, Des Moines\, Iowa
END:VEVENT
BEGIN:VEVENT
DTSTART;TZID=UTC:20251106T123000
DTEND;TZID=UTC:20251106T133000
DTSTAMP:20260424T132909
CREATED:20251022T145527Z
LAST-MODIFIED:20251022T145527Z
UID:1130-1762432200-1762435800@uppcdm.org
SUMMARY:Bible Study
DESCRIPTION:
URL:https://uppcdm.org/event/bible-study/
LOCATION:Union Park Presbyterian Church\, 1307 Thompson Ave.\, Des Moines\, Iowa
END:VEVENT
END:VCALENDAR