BEGIN:VCALENDAR
VERSION:2.0
PRODID:-//uppcdm - ECPv6.15.20//NONSGML v1.0//EN
CALSCALE:GREGORIAN
METHOD:PUBLISH
X-WR-CALNAME:uppcdm
X-ORIGINAL-URL:https://uppcdm.org
X-WR-CALDESC:Events for uppcdm
REFRESH-INTERVAL;VALUE=DURATION:PT1H
X-Robots-Tag:noindex
X-PUBLISHED-TTL:PT1H
BEGIN:VTIMEZONE
TZID:UTC
BEGIN:STANDARD
TZOFFSETFROM:+0000
TZOFFSETTO:+0000
TZNAME:UTC
DTSTART:20240101T000000
END:STANDARD
END:VTIMEZONE
BEGIN:VEVENT
DTSTART;VALUE=DATE:20260111
DTEND;VALUE=DATE:20260112
DTSTAMP:20260423T234827
CREATED:20251210T210722Z
LAST-MODIFIED:20251210T210722Z
UID:1298-1768089600-1768175999@uppcdm.org
SUMMARY:Baptism of the Lord
DESCRIPTION:
URL:https://uppcdm.org/event/baptism-of-the-lord/
END:VEVENT
BEGIN:VEVENT
DTSTART;TZID=UTC:20260110T100000
DTEND;TZID=UTC:20260110T140000
DTSTAMP:20260423T234827
CREATED:20251126T203142Z
LAST-MODIFIED:20260107T160027Z
UID:1257-1768039200-1768053600@uppcdm.org
SUMMARY:CIACUG Office Open
DESCRIPTION:
URL:https://uppcdm.org/event/ciacug-office-open-17/
LOCATION:UPPC Meeting Room
END:VEVENT
BEGIN:VEVENT
DTSTART;VALUE=DATE:20260109
DTEND;VALUE=DATE:20260110
DTSTAMP:20260423T234827
CREATED:20251210T161425Z
LAST-MODIFIED:20251224T154554Z
UID:1267-1767916800-1768003199@uppcdm.org
SUMMARY:Annual Reports Due in Church Office ASAP
DESCRIPTION:
URL:https://uppcdm.org/event/annual-reports-due-in-church-office/
LOCATION:Union Park Presbyterian Church\, 1307 Thompson Ave.\, Des Moines\, Iowa
ORGANIZER;CN="Dorothy Quartey":MAILTO:office.uppc@gmail.com
END:VEVENT
BEGIN:VEVENT
DTSTART;TZID=UTC:20260107T123000
DTEND;TZID=UTC:20260107T143000
DTSTAMP:20260423T234827
CREATED:20251210T163357Z
LAST-MODIFIED:20251210T163357Z
UID:1274-1767789000-1767796200@uppcdm.org
SUMMARY:Presbyterian Women's Meeting
DESCRIPTION:
URL:https://uppcdm.org/event/presbyterian-womens-meeting/
LOCATION:Union Park Presbyterian Church Fellowship Hall\, 1307 Thompson Ave.\, Des Moines\, Iowa
END:VEVENT
BEGIN:VEVENT
DTSTART;TZID=UTC:20260107T090000
DTEND;TZID=UTC:20260107T230000
DTSTAMP:20260423T234827
CREATED:20260107T154024Z
LAST-MODIFIED:20260107T154024Z
UID:1401-1767776400-1767826800@uppcdm.org
SUMMARY:Coffee/Fellowship
DESCRIPTION:
URL:https://uppcdm.org/event/coffee-fellowship-57/
LOCATION:Union Park Presbyterian Church Fellowship Hall\, 1307 Thompson Ave.\, Des Moines\, Iowa
END:VEVENT
BEGIN:VEVENT
DTSTART;VALUE=DATE:20260106
DTEND;VALUE=DATE:20260107
DTSTAMP:20260423T234827
CREATED:20251210T163617Z
LAST-MODIFIED:20251210T163617Z
UID:1277-1767657600-1767743999@uppcdm.org
SUMMARY:Epiphany of the Lord
DESCRIPTION:
URL:https://uppcdm.org/event/epiphany-of-the-lord/
END:VEVENT
BEGIN:VEVENT
DTSTART;TZID=UTC:20260104T120000
DTEND;TZID=UTC:20260104T130000
DTSTAMP:20260423T234827
CREATED:20251221T160417Z
LAST-MODIFIED:20251221T160417Z
UID:1328-1767528000-1767531600@uppcdm.org
SUMMARY:Removal of Decorations after Service
DESCRIPTION:
URL:https://uppcdm.org/event/removal-of-decorations-after-service/
END:VEVENT
BEGIN:VEVENT
DTSTART;TZID=UTC:20260104T120000
DTEND;TZID=UTC:20260104T130000
DTSTAMP:20260423T234827
CREATED:20251210T212134Z
LAST-MODIFIED:20251210T212134Z
UID:1304-1767528000-1767531600@uppcdm.org
SUMMARY:Coffee Fellowship
DESCRIPTION:
URL:https://uppcdm.org/event/coffee-fellowship-45/
LOCATION:Union Park Presbyterian Church Fellowship Hall\, 1307 Thompson Ave.\, Des Moines\, Iowa
END:VEVENT
BEGIN:VEVENT
DTSTART;TZID=UTC:20260104T110000
DTEND;TZID=UTC:20260104T120000
DTSTAMP:20260423T234827
CREATED:20251210T211958Z
LAST-MODIFIED:20251210T211958Z
UID:1302-1767524400-1767528000@uppcdm.org
SUMMARY:Worship/Communion
DESCRIPTION:
URL:https://uppcdm.org/event/worship-communion-2/
END:VEVENT
BEGIN:VEVENT
DTSTART;TZID=UTC:20260104T110000
DTEND;TZID=UTC:20260104T113000
DTSTAMP:20260423T234827
CREATED:20251221T160537Z
LAST-MODIFIED:20251221T160537Z
UID:1330-1767524400-1767526200@uppcdm.org
SUMMARY:Installation of New Elders
DESCRIPTION:
URL:https://uppcdm.org/event/installation-of-new-elders/
END:VEVENT
BEGIN:VEVENT
DTSTART;VALUE=DATE:20260104
DTEND;VALUE=DATE:20260105
DTSTAMP:20260423T234827
CREATED:20251210T211847Z
LAST-MODIFIED:20251210T213542Z
UID:1300-1767484800-1767571199@uppcdm.org
SUMMARY:2nd Sunday of Christmas
DESCRIPTION:
URL:https://uppcdm.org/event/2nd-sunday-of-christmas/
END:VEVENT
BEGIN:VEVENT
DTSTART;TZID=UTC:20260103T100000
DTEND;TZID=UTC:20260103T140000
DTSTAMP:20260423T234827
CREATED:20251105T171557Z
LAST-MODIFIED:20260107T162200Z
UID:1227-1767434400-1767448800@uppcdm.org
SUMMARY:CIACUG Office Open
DESCRIPTION:Computer training
URL:https://uppcdm.org/event/ciacug-office-open-16/
LOCATION:UPPC Meeting Room
END:VEVENT
BEGIN:VEVENT
DTSTART;TZID=UTC:20260102T080000
DTEND;TZID=UTC:20260102T170000
DTSTAMP:20260423T234827
CREATED:20251221T160744Z
LAST-MODIFIED:20251221T160744Z
UID:1332-1767340800-1767373200@uppcdm.org
SUMMARY:February 1\, will be the Annual Meeting\, time pending
DESCRIPTION:
URL:https://uppcdm.org/event/february-1-will-be-the-annual-meeting-time-pending/
LOCATION:UPPC Meeting Room
END:VEVENT
BEGIN:VEVENT
DTSTART;VALUE=DATE:20260101
DTEND;VALUE=DATE:20260102
DTSTAMP:20260423T234827
CREATED:20251105T170551Z
LAST-MODIFIED:20251105T170551Z
UID:1217-1767225600-1767311999@uppcdm.org
SUMMARY:New Year's Day
DESCRIPTION:
URL:https://uppcdm.org/event/new-years-day/
END:VEVENT
BEGIN:VEVENT
DTSTART;TZID=UTC:20251231T110000
DTEND;TZID=UTC:20251231T120000
DTSTAMP:20260423T234827
CREATED:20251126T171956Z
LAST-MODIFIED:20251126T171956Z
UID:1253-1767178800-1767182400@uppcdm.org
SUMMARY:Coffee & Fellowship
DESCRIPTION:
URL:https://uppcdm.org/event/coffee-fellowship-40/
LOCATION:Union Park Presbyterian Church Fellowship Hall\, 1307 Thompson Ave.\, Des Moines\, Iowa
END:VEVENT
BEGIN:VEVENT
DTSTART;VALUE=DATE:20251231
DTEND;VALUE=DATE:20260101
DTSTAMP:20260423T234827
CREATED:20251105T170225Z
LAST-MODIFIED:20251105T170225Z
UID:1209-1767139200-1767225599@uppcdm.org
SUMMARY:New Year's Eve
DESCRIPTION:
URL:https://uppcdm.org/event/new-years-eve/
END:VEVENT
BEGIN:VEVENT
DTSTART;TZID=UTC:20251228T120000
DTEND;TZID=UTC:20251228T130000
DTSTAMP:20260423T234827
CREATED:20251105T160312Z
LAST-MODIFIED:20251105T160312Z
UID:1181-1766923200-1766926800@uppcdm.org
SUMMARY:Coffee/Fellowship
DESCRIPTION:
URL:https://uppcdm.org/event/coffee-fellowship-36/
END:VEVENT
BEGIN:VEVENT
DTSTART;TZID=UTC:20251228T110000
DTEND;TZID=UTC:20251228T120000
DTSTAMP:20260423T234827
CREATED:20251105T160209Z
LAST-MODIFIED:20251106T173341Z
UID:1179-1766919600-1766923200@uppcdm.org
SUMMARY:Worship Service
DESCRIPTION:
URL:https://uppcdm.org/event/worship-service-7/
END:VEVENT
BEGIN:VEVENT
DTSTART;VALUE=DATE:20251228
DTEND;VALUE=DATE:20251229
DTSTAMP:20260423T234827
CREATED:20251105T155949Z
LAST-MODIFIED:20251105T160021Z
UID:1177-1766880000-1766966399@uppcdm.org
SUMMARY:1st Sunday of Christmas
DESCRIPTION:
URL:https://uppcdm.org/event/1st-sunday-of-christmas/
END:VEVENT
BEGIN:VEVENT
DTSTART;TZID=UTC:20251227T100000
DTEND;TZID=UTC:20251227T150000
DTSTAMP:20260423T234827
CREATED:20251105T171417Z
LAST-MODIFIED:20251105T171417Z
UID:1225-1766829600-1766847600@uppcdm.org
SUMMARY:CIACUG office open
DESCRIPTION:Computer training
URL:https://uppcdm.org/event/ciacug-office-open-15/
LOCATION:UPPC Meeting Room
END:VEVENT
BEGIN:VEVENT
DTSTART;VALUE=DATE:20251225
DTEND;VALUE=DATE:20251226
DTSTAMP:20260423T234827
CREATED:20251105T170511Z
LAST-MODIFIED:20251105T170511Z
UID:1215-1766620800-1766707199@uppcdm.org
SUMMARY:Christmas Day
DESCRIPTION:
URL:https://uppcdm.org/event/christmas-day/
END:VEVENT
BEGIN:VEVENT
DTSTART;TZID=UTC:20251224T173000
DTEND;TZID=UTC:20251224T180000
DTSTAMP:20260423T234827
CREATED:20251105T170141Z
LAST-MODIFIED:20251126T171755Z
UID:1207-1766597400-1766599200@uppcdm.org
SUMMARY:Christmas Eve Candlelight Service
DESCRIPTION:
URL:https://uppcdm.org/event/christmas-eve-candlelight-service/
END:VEVENT
BEGIN:VEVENT
DTSTART;TZID=UTC:20251224T163000
DTEND;TZID=UTC:20251224T170000
DTSTAMP:20260423T234827
CREATED:20251224T154350Z
LAST-MODIFIED:20251224T154350Z
UID:1336-1766593800-1766595600@uppcdm.org
SUMMARY:4:45 p.m. Choir rehearsal
DESCRIPTION:
URL:https://uppcdm.org/event/445-p-m-choir-rehearsal/
END:VEVENT
BEGIN:VEVENT
DTSTART;VALUE=DATE:20251223
DTEND;VALUE=DATE:20251224
DTSTAMP:20260423T234827
CREATED:20251105T161104Z
LAST-MODIFIED:20251105T161104Z
UID:1188-1766448000-1766534399@uppcdm.org
SUMMARY:Press Deadline for Church Newsletter
DESCRIPTION:
URL:https://uppcdm.org/event/press-deadline-for-church-newsletter/
LOCATION:Union Park Presbyterian Church\, 1307 Thompson Ave.\, Des Moines\, Iowa
END:VEVENT
BEGIN:VEVENT
DTSTART;TZID=UTC:20251221T120000
DTEND;TZID=UTC:20251221T130000
DTSTAMP:20260423T234827
CREATED:20251105T155859Z
LAST-MODIFIED:20251105T155859Z
UID:1175-1766318400-1766322000@uppcdm.org
SUMMARY:Coffee/Fellowship
DESCRIPTION:
URL:https://uppcdm.org/event/coffee-fellowship-35/
END:VEVENT
BEGIN:VEVENT
DTSTART;TZID=UTC:20251221T110000
DTEND;TZID=UTC:20251221T130000
DTSTAMP:20260423T234827
CREATED:20251126T171456Z
LAST-MODIFIED:20251126T171456Z
UID:1249-1766314800-1766322000@uppcdm.org
SUMMARY:Christmas Joy Offering
DESCRIPTION:
URL:https://uppcdm.org/event/christmas-joy-offering-3/
END:VEVENT
BEGIN:VEVENT
DTSTART;TZID=UTC:20251221T110000
DTEND;TZID=UTC:20251221T120000
DTSTAMP:20260423T234827
CREATED:20251105T155409Z
LAST-MODIFIED:20251106T173410Z
UID:1169-1766314800-1766318400@uppcdm.org
SUMMARY:Worship Service
DESCRIPTION:
URL:https://uppcdm.org/event/worship-service-6/
END:VEVENT
BEGIN:VEVENT
DTSTART;VALUE=DATE:20251221
DTEND;VALUE=DATE:20251222
DTSTAMP:20260423T234827
CREATED:20251105T154736Z
LAST-MODIFIED:20251105T154736Z
UID:1166-1766275200-1766361599@uppcdm.org
SUMMARY:4th Sunday of Advent
DESCRIPTION:
URL:https://uppcdm.org/event/4th-sunday-of-advent/
END:VEVENT
BEGIN:VEVENT
DTSTART;TZID=UTC:20251220T100000
DTEND;TZID=UTC:20251220T150000
DTSTAMP:20260423T234827
CREATED:20251105T171039Z
LAST-MODIFIED:20251105T171039Z
UID:1223-1766224800-1766242800@uppcdm.org
SUMMARY:CIACUG OFFICE Open
DESCRIPTION:Computer training
URL:https://uppcdm.org/event/ciacug-office-open-14/
LOCATION:UPPC Meeting Room
END:VEVENT
BEGIN:VEVENT
DTSTART;TZID=UTC:20251218T123000
DTEND;TZID=UTC:20251218T133000
DTSTAMP:20260423T234827
CREATED:20251105T170441Z
LAST-MODIFIED:20251126T172153Z
UID:1213-1766061000-1766064600@uppcdm.org
SUMMARY:Bible Study at UPPC led by Pastor Doug
DESCRIPTION:
URL:https://uppcdm.org/event/bible-study-5/
LOCATION:Union Park Presbyterian Church\, 1307 Thompson Ave.\, Des Moines\, Iowa
END:VEVENT
END:VCALENDAR