BEGIN:VCALENDAR
VERSION:2.0
PRODID:-//uppcdm - ECPv6.15.20//NONSGML v1.0//EN
CALSCALE:GREGORIAN
METHOD:PUBLISH
X-WR-CALNAME:uppcdm
X-ORIGINAL-URL:https://uppcdm.org
X-WR-CALDESC:Events for uppcdm
REFRESH-INTERVAL;VALUE=DURATION:PT1H
X-Robots-Tag:noindex
X-PUBLISHED-TTL:PT1H
BEGIN:VTIMEZONE
TZID:UTC
BEGIN:STANDARD
TZOFFSETFROM:+0000
TZOFFSETTO:+0000
TZNAME:UTC
DTSTART:20240101T000000
END:STANDARD
END:VTIMEZONE
BEGIN:VEVENT
DTSTART;VALUE=DATE:20250121
DTEND;VALUE=DATE:20250122
DTSTAMP:20260424T154534
CREATED:20250110T013542Z
LAST-MODIFIED:20250110T013542Z
UID:742-1737417600-1737503999@uppcdm.org
SUMMARY:PRESS Deadline
DESCRIPTION:Treasurer unavailable so deadline will be moved into February
URL:https://uppcdm.org/event/press-deadline/
LOCATION:Iowa
END:VEVENT
BEGIN:VEVENT
DTSTART;TZID=UTC:20250119T120000
DTEND;TZID=UTC:20250119T130000
DTSTAMP:20260424T154534
CREATED:20250110T012522Z
LAST-MODIFIED:20250110T012522Z
UID:734-1737288000-1737291600@uppcdm.org
SUMMARY:Coffee Fellowship
DESCRIPTION:
URL:https://uppcdm.org/event/coffee-fellowship-5/
LOCATION:Iowa
END:VEVENT
BEGIN:VEVENT
DTSTART;TZID=UTC:20250119T110000
DTEND;TZID=UTC:20250119T120000
DTSTAMP:20260424T154534
CREATED:20250110T010014Z
LAST-MODIFIED:20250110T010257Z
UID:707-1737284400-1737288000@uppcdm.org
SUMMARY:Worship
DESCRIPTION:Worship
URL:https://uppcdm.org/event/worship-3/
LOCATION:Iowa
END:VEVENT
BEGIN:VEVENT
DTSTART;TZID=UTC:20250118T100000
DTEND;TZID=UTC:20250118T150000
DTSTAMP:20260424T154534
CREATED:20250110T011544Z
LAST-MODIFIED:20250110T011544Z
UID:720-1737194400-1737212400@uppcdm.org
SUMMARY:CIACUG
DESCRIPTION:
URL:https://uppcdm.org/event/ciacug/
LOCATION:Iowa
END:VEVENT
BEGIN:VEVENT
DTSTART;TZID=UTC:20250116T123000
DTEND;TZID=UTC:20250116T133000
DTSTAMP:20260424T154534
CREATED:20250110T005247Z
LAST-MODIFIED:20250110T005408Z
UID:701-1737030600-1737034200@uppcdm.org
SUMMARY:Bible Study
DESCRIPTION:
URL:https://uppcdm.org/event/bible-study-2/
LOCATION:UPPC Meeting Room
END:VEVENT
BEGIN:VEVENT
DTSTART;TZID=UTC:20250115T131500
DTEND;TZID=UTC:20250115T140000
DTSTAMP:20260424T154534
CREATED:20250110T013753Z
LAST-MODIFIED:20250110T013753Z
UID:745-1736946900-1736949600@uppcdm.org
SUMMARY:Choir Practice
DESCRIPTION:
URL:https://uppcdm.org/event/choir-practice-2/
LOCATION:Iowa
END:VEVENT
BEGIN:VEVENT
DTSTART;TZID=UTC:20250115T090000
DTEND;TZID=UTC:20250115T110000
DTSTAMP:20260424T154534
CREATED:20250110T012004Z
LAST-MODIFIED:20250110T012004Z
UID:726-1736931600-1736938800@uppcdm.org
SUMMARY:Coffee Fellowship
DESCRIPTION:
URL:https://uppcdm.org/event/coffee-fellowship/
LOCATION:Iowa
END:VEVENT
BEGIN:VEVENT
DTSTART;TZID=UTC:20250113T190000
DTEND;TZID=UTC:20250113T200000
DTSTAMP:20260424T154534
CREATED:20250110T011359Z
LAST-MODIFIED:20250110T011359Z
UID:718-1736794800-1736798400@uppcdm.org
SUMMARY:CIACUG meeting
DESCRIPTION:
URL:https://uppcdm.org/event/ciacug-meeting/
LOCATION:Iowa
END:VEVENT
BEGIN:VEVENT
DTSTART;TZID=UTC:20250112T120000
DTEND;TZID=UTC:20250112T130000
DTSTAMP:20260424T154534
CREATED:20250110T012423Z
LAST-MODIFIED:20250110T012423Z
UID:732-1736683200-1736686800@uppcdm.org
SUMMARY:Coffee Fellowship
DESCRIPTION:
URL:https://uppcdm.org/event/coffee-fellowship-4/
LOCATION:Iowa
END:VEVENT
BEGIN:VEVENT
DTSTART;TZID=UTC:20250112T110000
DTEND;TZID=UTC:20250112T120000
DTSTAMP:20260424T154534
CREATED:20250110T005934Z
LAST-MODIFIED:20250110T010355Z
UID:705-1736679600-1736683200@uppcdm.org
SUMMARY:Worship
DESCRIPTION:
URL:https://uppcdm.org/event/worship-2/
LOCATION:Iowa
END:VEVENT
BEGIN:VEVENT
DTSTART;TZID=UTC:20250111T100000
DTEND;TZID=UTC:20250111T150000
DTSTAMP:20260424T154534
CREATED:20250110T012944Z
LAST-MODIFIED:20250110T012944Z
UID:740-1736589600-1736607600@uppcdm.org
SUMMARY:CIACUG
DESCRIPTION:
URL:https://uppcdm.org/event/ciacug-4/
LOCATION:Iowa
END:VEVENT
BEGIN:VEVENT
DTSTART;TZID=UTC:20250110T080000
DTEND;TZID=UTC:20250110T170000
DTSTAMP:20260424T154534
CREATED:20250110T010945Z
LAST-MODIFIED:20250110T015322Z
UID:713-1736496000-1736528400@uppcdm.org
SUMMARY:Reports Due
DESCRIPTION:Annual Reports Due
URL:https://uppcdm.org/event/reports/
LOCATION:Iowa
END:VEVENT
BEGIN:VEVENT
DTSTART;TZID=UTC:20250108T183000
DTEND;TZID=UTC:20250108T200000
DTSTAMP:20260424T154534
CREATED:20241231T205233Z
LAST-MODIFIED:20241231T205233Z
UID:633-1736361000-1736366400@uppcdm.org
SUMMARY:Session Meeting
DESCRIPTION:Business Meeting
URL:https://uppcdm.org/event/session-meeting/
LOCATION:Iowa
END:VEVENT
BEGIN:VEVENT
DTSTART;TZID=UTC:20250108T123000
DTEND;TZID=UTC:20250108T140000
DTSTAMP:20260424T154534
CREATED:20241231T204935Z
LAST-MODIFIED:20241231T215739Z
UID:629-1736339400-1736344800@uppcdm.org
SUMMARY:Presbyterian Women
DESCRIPTION:Fellowship and Bible Study \nPotiphar’s Wife (Genesis 39) \n\nWhy she’s seen as “bad”: She falsely accused Joseph of trying to seduce her after he rejected her advances\, leading to his imprisonment.\nKey lesson: Integrity may bring challenges\, but God ultimately rewards the righteous.
URL:https://uppcdm.org/event/presbyterian-women/
LOCATION:Iowa
END:VEVENT
BEGIN:VEVENT
DTSTART;TZID=UTC:20250108T090000
DTEND;TZID=UTC:20250108T110000
DTSTAMP:20260424T154534
CREATED:20241231T203723Z
LAST-MODIFIED:20250110T010743Z
UID:293-1736326800-1736334000@uppcdm.org
SUMMARY:Coffee Fellowship
DESCRIPTION:Coffee and donuts
URL:https://uppcdm.org/event/mens-fellowship/
LOCATION:Iowa
CATEGORIES:Men's Fellowship
END:VEVENT
BEGIN:VEVENT
DTSTART;TZID=UTC:20250106T183000
DTEND;TZID=UTC:20250106T200000
DTSTAMP:20260424T154534
CREATED:20241231T221451Z
LAST-MODIFIED:20250110T010612Z
UID:660-1736188200-1736193600@uppcdm.org
SUMMARY:Book Club
DESCRIPTION:Joan & Jennifer will review  Don’t Make Me Pull Over by Richard Ratay
URL:https://uppcdm.org/event/book-club/
LOCATION:UPPC Meeting Room
END:VEVENT
BEGIN:VEVENT
DTSTART;TZID=UTC:20250105T120000
DTEND;TZID=UTC:20250105T130000
DTSTAMP:20260424T154534
CREATED:20241231T212502Z
LAST-MODIFIED:20250110T005630Z
UID:642-1736078400-1736082000@uppcdm.org
SUMMARY:Coffee Fellowship
DESCRIPTION:Taking down the Christmas decorations
URL:https://uppcdm.org/event/downing-of-the-browns/
LOCATION:Iowa
END:VEVENT
BEGIN:VEVENT
DTSTART;TZID=UTC:20250105T110000
DTEND;TZID=UTC:20250105T110000
DTSTAMP:20260424T154534
CREATED:20241231T214139Z
LAST-MODIFIED:20250110T005844Z
UID:651-1736074800-1736074800@uppcdm.org
SUMMARY:Worship
DESCRIPTION:Sunday Worship
URL:https://uppcdm.org/event/worship/
LOCATION:Iowa
END:VEVENT
END:VCALENDAR