BEGIN:VCALENDAR
VERSION:2.0
PRODID:-//uppcdm - ECPv6.15.20//NONSGML v1.0//EN
CALSCALE:GREGORIAN
METHOD:PUBLISH
X-WR-CALNAME:uppcdm
X-ORIGINAL-URL:https://uppcdm.org
X-WR-CALDESC:Events for uppcdm
REFRESH-INTERVAL;VALUE=DURATION:PT1H
X-Robots-Tag:noindex
X-PUBLISHED-TTL:PT1H
BEGIN:VTIMEZONE
TZID:UTC
BEGIN:STANDARD
TZOFFSETFROM:+0000
TZOFFSETTO:+0000
TZNAME:UTC
DTSTART:20240101T000000
END:STANDARD
END:VTIMEZONE
BEGIN:VEVENT
DTSTART;TZID=UTC:20250316T080000
DTEND;TZID=UTC:20250316T170000
DTSTAMP:20260424T140207
CREATED:20250225T182056Z
LAST-MODIFIED:20250225T182056Z
UID:803-1742112000-1742144400@uppcdm.org
SUMMARY:Worship
DESCRIPTION:
URL:https://uppcdm.org/event/worship-7/
END:VEVENT
BEGIN:VEVENT
DTSTART;TZID=UTC:20250315T100000
DTEND;TZID=UTC:20250315T150000
DTSTAMP:20260424T140207
CREATED:20250225T213758Z
LAST-MODIFIED:20250225T213758Z
UID:863-1742032800-1742050800@uppcdm.org
SUMMARY:CIACUG office open
DESCRIPTION:
URL:https://uppcdm.org/event/ciacug-office-open-4/
END:VEVENT
BEGIN:VEVENT
DTSTART;TZID=UTC:20250312T090000
DTEND;TZID=UTC:20250312T110000
DTSTAMP:20260424T140207
CREATED:20250225T202109Z
LAST-MODIFIED:20250225T202109Z
UID:829-1741770000-1741777200@uppcdm.org
SUMMARY:Coffee Fellowship
DESCRIPTION:
URL:https://uppcdm.org/event/coffee-fellowship-18/
END:VEVENT
BEGIN:VEVENT
DTSTART;TZID=UTC:20250309T120000
DTEND;TZID=UTC:20250309T130000
DTSTAMP:20260424T140207
CREATED:20250225T181941Z
LAST-MODIFIED:20250225T181941Z
UID:801-1741521600-1741525200@uppcdm.org
SUMMARY:Coffee & Fellowship
DESCRIPTION:
URL:https://uppcdm.org/event/coffee-fellowship-13/
END:VEVENT
BEGIN:VEVENT
DTSTART;TZID=UTC:20250309T110000
DTEND;TZID=UTC:20250309T120000
DTSTAMP:20260424T140207
CREATED:20250225T181815Z
LAST-MODIFIED:20250225T181815Z
UID:799-1741518000-1741521600@uppcdm.org
SUMMARY:Worship
DESCRIPTION:
URL:https://uppcdm.org/event/worship-6/
END:VEVENT
BEGIN:VEVENT
DTSTART;TZID=UTC:20250308T100000
DTEND;TZID=UTC:20250308T150000
DTSTAMP:20260424T140207
CREATED:20250225T213520Z
LAST-MODIFIED:20250225T213520Z
UID:859-1741428000-1741446000@uppcdm.org
SUMMARY:CIACUG office open
DESCRIPTION:
URL:https://uppcdm.org/event/ciacug-office-open-3/
END:VEVENT
BEGIN:VEVENT
DTSTART;VALUE=DATE:20250307
DTEND;VALUE=DATE:20250308
DTSTAMP:20260424T140207
CREATED:20250225T213155Z
LAST-MODIFIED:20250225T213155Z
UID:853-1741305600-1741391999@uppcdm.org
SUMMARY:World Day of Prayer
DESCRIPTION:
URL:https://uppcdm.org/event/world-day-of-prayer/
END:VEVENT
BEGIN:VEVENT
DTSTART;TZID=UTC:20250306T123000
DTEND;TZID=UTC:20250306T133000
DTSTAMP:20260424T140207
CREATED:20250227T163618Z
LAST-MODIFIED:20250227T164654Z
UID:871-1741264200-1741267800@uppcdm.org
SUMMARY:Bible Study by Pastor Doug
DESCRIPTION:
URL:https://uppcdm.org/event/bible-study-by-pastor-doug-4/
LOCATION:UPPC Meeting Room
END:VEVENT
BEGIN:VEVENT
DTSTART;TZID=UTC:20250305T123000
DTEND;TZID=UTC:20250305T140000
DTSTAMP:20260424T140207
CREATED:20250225T201817Z
LAST-MODIFIED:20250225T201817Z
UID:825-1741177800-1741183200@uppcdm.org
SUMMARY:Presbyterian Women
DESCRIPTION:
URL:https://uppcdm.org/event/presbyterian-women-2/
END:VEVENT
BEGIN:VEVENT
DTSTART;TZID=UTC:20250305T090000
DTEND;TZID=UTC:20250305T110000
DTSTAMP:20260424T140207
CREATED:20250225T201621Z
LAST-MODIFIED:20250225T201621Z
UID:823-1741165200-1741172400@uppcdm.org
SUMMARY:Coffee Fellowship
DESCRIPTION:
URL:https://uppcdm.org/event/coffee-fellowship-17/
END:VEVENT
BEGIN:VEVENT
DTSTART;TZID=UTC:20250302T120000
DTEND;TZID=UTC:20250302T130000
DTSTAMP:20260424T140207
CREATED:20250225T181701Z
LAST-MODIFIED:20250225T181701Z
UID:797-1740916800-1740920400@uppcdm.org
SUMMARY:Coffee & Fellowship
DESCRIPTION:
URL:https://uppcdm.org/event/coffee-fellowship-12/
END:VEVENT
BEGIN:VEVENT
DTSTART;TZID=UTC:20250302T110000
DTEND;TZID=UTC:20250302T120000
DTSTAMP:20260424T140207
CREATED:20250225T181444Z
LAST-MODIFIED:20250225T181444Z
UID:795-1740913200-1740916800@uppcdm.org
SUMMARY:Worship with Communion
DESCRIPTION:
URL:https://uppcdm.org/event/worship-with-communion-2/
END:VEVENT
BEGIN:VEVENT
DTSTART;TZID=UTC:20250301T100000
DTEND;TZID=UTC:20250301T150000
DTSTAMP:20260424T140207
CREATED:20250225T213359Z
LAST-MODIFIED:20250225T213359Z
UID:857-1740823200-1740841200@uppcdm.org
SUMMARY:CIACUG office open
DESCRIPTION:
URL:https://uppcdm.org/event/ciacug-office-open-2/
END:VEVENT
BEGIN:VEVENT
DTSTART;TZID=UTC:20250226T090000
DTEND;TZID=UTC:20250226T110000
DTSTAMP:20260424T140207
CREATED:20250212T022408Z
LAST-MODIFIED:20250212T022408Z
UID:774-1740560400-1740567600@uppcdm.org
SUMMARY:Coffee Fellowship
DESCRIPTION:
URL:https://uppcdm.org/event/coffee-fellowship-10/
END:VEVENT
BEGIN:VEVENT
DTSTART;TZID=UTC:20250225T100000
DTEND;TZID=UTC:20250225T150000
DTSTAMP:20260424T140207
CREATED:20250225T213303Z
LAST-MODIFIED:20250225T213303Z
UID:855-1740477600-1740495600@uppcdm.org
SUMMARY:CIACUG office open
DESCRIPTION:
URL:https://uppcdm.org/event/ciacug-office-open/
END:VEVENT
BEGIN:VEVENT
DTSTART;TZID=UTC:20250221T120000
DTEND;TZID=UTC:20250221T130000
DTSTAMP:20260424T140207
CREATED:20250221T003055Z
LAST-MODIFIED:20250221T003055Z
UID:792-1740139200-1740142800@uppcdm.org
SUMMARY:W/N Committee Meeting and E/O Committee Meeting
DESCRIPTION:
URL:https://uppcdm.org/event/w-n-committee-meeting-and-e-o-committee-meeting/
END:VEVENT
BEGIN:VEVENT
DTSTART;TZID=UTC:20250221T120000
DTEND;TZID=UTC:20250221T130000
DTSTAMP:20260424T140207
CREATED:20250221T002843Z
LAST-MODIFIED:20250221T002843Z
UID:790-1740139200-1740142800@uppcdm.org
SUMMARY:Coffee Fellowship
DESCRIPTION:
URL:https://uppcdm.org/event/coffee-fellowship-11/
END:VEVENT
BEGIN:VEVENT
DTSTART;TZID=UTC:20250219T090000
DTEND;TZID=UTC:20250219T110000
DTSTAMP:20260424T140207
CREATED:20250212T022249Z
LAST-MODIFIED:20250212T022249Z
UID:771-1739955600-1739962800@uppcdm.org
SUMMARY:Coffee Fellowship
DESCRIPTION:
URL:https://uppcdm.org/event/coffee-fellowship-8/
END:VEVENT
BEGIN:VEVENT
DTSTART;TZID=UTC:20250216T110000
DTEND;TZID=UTC:20250216T120000
DTSTAMP:20260424T140207
CREATED:20250221T002638Z
LAST-MODIFIED:20250221T002638Z
UID:788-1739703600-1739707200@uppcdm.org
SUMMARY:Worship
DESCRIPTION:
URL:https://uppcdm.org/event/worship-5/
END:VEVENT
BEGIN:VEVENT
DTSTART;TZID=UTC:20250212T000000
DTEND;TZID=UTC:20250212T130000
DTSTAMP:20260424T140207
CREATED:20250212T021439Z
LAST-MODIFIED:20250225T180748Z
UID:764-1739318400-1739365200@uppcdm.org
SUMMARY:Coffee Fellowship
DESCRIPTION:
URL:https://uppcdm.org/event/coffee-2/
END:VEVENT
BEGIN:VEVENT
DTSTART;TZID=UTC:20250205T090000
DTEND;TZID=UTC:20250205T110000
DTSTAMP:20260424T140207
CREATED:20250212T021948Z
LAST-MODIFIED:20250212T021948Z
UID:768-1738746000-1738753200@uppcdm.org
SUMMARY:Coffee Fellowship
DESCRIPTION:
URL:https://uppcdm.org/event/coffee-fellowship-9/
END:VEVENT
BEGIN:VEVENT
DTSTART;TZID=UTC:20250202T120000
DTEND;TZID=UTC:20250202T130000
DTSTAMP:20260424T140207
CREATED:20250110T012738Z
LAST-MODIFIED:20250110T012738Z
UID:738-1738497600-1738501200@uppcdm.org
SUMMARY:Coffee Fellowship
DESCRIPTION:
URL:https://uppcdm.org/event/coffee-fellowship-7/
END:VEVENT
BEGIN:VEVENT
DTSTART;TZID=UTC:20250202T110000
DTEND;TZID=UTC:20250202T120000
DTSTAMP:20260424T140207
CREATED:20250212T024315Z
LAST-MODIFIED:20250212T024315Z
UID:785-1738494000-1738497600@uppcdm.org
SUMMARY:Worship with Communion
DESCRIPTION:
URL:https://uppcdm.org/event/worship-with-communion/
END:VEVENT
BEGIN:VEVENT
DTSTART;TZID=UTC:20250201T100000
DTEND;TZID=UTC:20250201T150000
DTSTAMP:20260424T140207
CREATED:20250110T011758Z
LAST-MODIFIED:20250110T011758Z
UID:724-1738404000-1738422000@uppcdm.org
SUMMARY:CIACUG
DESCRIPTION:
URL:https://uppcdm.org/event/ciacug-3/
END:VEVENT
BEGIN:VEVENT
DTSTART;TZID=UTC:20250129T183000
DTEND;TZID=UTC:20250129T200000
DTSTAMP:20260424T140207
CREATED:20250110T014723Z
LAST-MODIFIED:20250110T014723Z
UID:751-1738175400-1738180800@uppcdm.org
SUMMARY:Session Meeting
DESCRIPTION:
URL:https://uppcdm.org/event/session-meeting-2/
LOCATION:UPPC Meeting Room
END:VEVENT
BEGIN:VEVENT
DTSTART;TZID=UTC:20250129T131500
DTEND;TZID=UTC:20250129T140000
DTSTAMP:20260424T140207
CREATED:20250110T014501Z
LAST-MODIFIED:20250110T014501Z
UID:749-1738156500-1738159200@uppcdm.org
SUMMARY:Choir Practice
DESCRIPTION:
URL:https://uppcdm.org/event/choir-practice-4/
END:VEVENT
BEGIN:VEVENT
DTSTART;TZID=UTC:20250129T090000
DTEND;TZID=UTC:20250129T110000
DTSTAMP:20260424T140207
CREATED:20250110T012202Z
LAST-MODIFIED:20250110T012202Z
UID:730-1738141200-1738148400@uppcdm.org
SUMMARY:Coffee Fellowship
DESCRIPTION:
URL:https://uppcdm.org/event/coffee-fellowship-3/
END:VEVENT
BEGIN:VEVENT
DTSTART;TZID=UTC:20250126T120000
DTEND;TZID=UTC:20250126T130000
DTSTAMP:20260424T140207
CREATED:20250110T012620Z
LAST-MODIFIED:20250110T012620Z
UID:736-1737892800-1737896400@uppcdm.org
SUMMARY:Coffee Fellowship
DESCRIPTION:
URL:https://uppcdm.org/event/coffee-fellowship-6/
END:VEVENT
BEGIN:VEVENT
DTSTART;TZID=UTC:20250126T120000
DTEND;TZID=UTC:20250126T130000
DTSTAMP:20260424T140207
CREATED:20241231T213841Z
LAST-MODIFIED:20241231T215040Z
UID:649-1737892800-1737896400@uppcdm.org
SUMMARY:W & N meeting
DESCRIPTION:Meeting of Worship and Nurture committee. \nPrepare for Ash Wednesday \nSetup Chairs
URL:https://uppcdm.org/event/w-n-meeting/
END:VEVENT
BEGIN:VEVENT
DTSTART;TZID=UTC:20250126T120000
DTEND;TZID=UTC:20250126T130000
DTSTAMP:20260424T140207
CREATED:20241231T213247Z
LAST-MODIFIED:20241231T213247Z
UID:647-1737892800-1737896400@uppcdm.org
SUMMARY:E & O meeting
DESCRIPTION:Meeting of Evangelism and Outreach
URL:https://uppcdm.org/event/e-o-meeting/
END:VEVENT
END:VCALENDAR