BEGIN:VCALENDAR
VERSION:2.0
PRODID:-//uppcdm - ECPv6.15.20//NONSGML v1.0//EN
CALSCALE:GREGORIAN
METHOD:PUBLISH
X-WR-CALNAME:uppcdm
X-ORIGINAL-URL:https://uppcdm.org
X-WR-CALDESC:Events for uppcdm
REFRESH-INTERVAL;VALUE=DURATION:PT1H
X-Robots-Tag:noindex
X-PUBLISHED-TTL:PT1H
BEGIN:VTIMEZONE
TZID:UTC
BEGIN:STANDARD
TZOFFSETFROM:+0000
TZOFFSETTO:+0000
TZNAME:UTC
DTSTART:20250101T000000
END:STANDARD
END:VTIMEZONE
BEGIN:VEVENT
DTSTART;TZID=UTC:20260614T110000
DTEND;TZID=UTC:20260614T120000
DTSTAMP:20260423T172937
CREATED:20260416T164635Z
LAST-MODIFIED:20260416T164922Z
UID:1753-1781434800-1781438400@uppcdm.org
SUMMARY:Worship Service/ 3rd Sunday after Pentecost
DESCRIPTION:Proper 6
URL:https://uppcdm.org/event/worship-service-3rd-sunday-after-pentecost/
LOCATION:Sanctuary
END:VEVENT
BEGIN:VEVENT
DTSTART;TZID=UTC:20260614T120000
DTEND;TZID=UTC:20260614T130000
DTSTAMP:20260423T172937
CREATED:20260416T170433Z
LAST-MODIFIED:20260416T170433Z
UID:1765-1781438400-1781442000@uppcdm.org
SUMMARY:Coffee/Fellowship
DESCRIPTION:
URL:https://uppcdm.org/event/coffee-fellowship-82/
LOCATION:Union Park Presbyterian Church Fellowship Hall\, 1307 Thompson Ave.\, Des Moines\, Iowa
END:VEVENT
END:VCALENDAR