BEGIN:VCALENDAR
VERSION:2.0
PRODID:-//uppcdm - ECPv6.15.20//NONSGML v1.0//EN
CALSCALE:GREGORIAN
METHOD:PUBLISH
X-WR-CALNAME:uppcdm
X-ORIGINAL-URL:https://uppcdm.org
X-WR-CALDESC:Events for uppcdm
REFRESH-INTERVAL;VALUE=DURATION:PT1H
X-Robots-Tag:noindex
X-PUBLISHED-TTL:PT1H
BEGIN:VTIMEZONE
TZID:UTC
BEGIN:STANDARD
TZOFFSETFROM:+0000
TZOFFSETTO:+0000
TZNAME:UTC
DTSTART:20250101T000000
END:STANDARD
END:VTIMEZONE
BEGIN:VEVENT
DTSTART;TZID=UTC:20260610T090000
DTEND;TZID=UTC:20260610T110000
DTSTAMP:20260423T172937
CREATED:20260419T144700Z
LAST-MODIFIED:20260419T144700Z
UID:1785-1781082000-1781089200@uppcdm.org
SUMMARY:Coffee/Fellowship
DESCRIPTION:
URL:https://uppcdm.org/event/coffee-fellowship-86/
LOCATION:Union Park Presbyterian Church Fellowship Hall\, 1307 Thompson Ave.\, Des Moines\, Iowa
END:VEVENT
BEGIN:VEVENT
DTSTART;TZID=UTC:20260610T110000
DTEND;TZID=UTC:20260610T120000
DTSTAMP:20260423T172937
CREATED:20260419T145829Z
LAST-MODIFIED:20260419T145829Z
UID:1793-1781089200-1781092800@uppcdm.org
SUMMARY:Slow Down Coffee with Pastor Doug
DESCRIPTION:
URL:https://uppcdm.org/event/slow-down-coffee-with-pastor-doug-17/
LOCATION:Slow Down Coffee Shop\, 3613 6th Avenue\, Des Moines\, Iowa
END:VEVENT
END:VCALENDAR