BEGIN:VCALENDAR
VERSION:2.0
PRODID:-//uppcdm - ECPv6.15.20//NONSGML v1.0//EN
CALSCALE:GREGORIAN
METHOD:PUBLISH
X-ORIGINAL-URL:https://uppcdm.org
X-WR-CALDESC:Events for uppcdm
REFRESH-INTERVAL;VALUE=DURATION:PT1H
X-Robots-Tag:noindex
X-PUBLISHED-TTL:PT1H
BEGIN:VTIMEZONE
TZID:UTC
BEGIN:STANDARD
TZOFFSETFROM:+0000
TZOFFSETTO:+0000
TZNAME:UTC
DTSTART:20250101T000000
END:STANDARD
END:VTIMEZONE
BEGIN:VEVENT
DTSTART;VALUE=DATE:20260524
DTEND;VALUE=DATE:20260525
DTSTAMP:20260423T160828
CREATED:20260401T154041Z
LAST-MODIFIED:20260401T154041Z
UID:1680-1779580800-1779667199@uppcdm.org
SUMMARY:Day of Pentecost
DESCRIPTION:
URL:https://uppcdm.org/event/day-of-pentecost/
LOCATION:Iowa
END:VEVENT
BEGIN:VEVENT
DTSTART;TZID=UTC:20260524T110000
DTEND;TZID=UTC:20260524T120000
DTSTAMP:20260423T160828
CREATED:20260401T155609Z
LAST-MODIFIED:20260401T155609Z
UID:1694-1779620400-1779624000@uppcdm.org
SUMMARY:Pentecost Worship Service
DESCRIPTION:
URL:https://uppcdm.org/event/pentecost-worship-service/
LOCATION:Sanctuary
END:VEVENT
BEGIN:VEVENT
DTSTART;TZID=UTC:20260524T110000
DTEND;TZID=UTC:20260524T120000
DTSTAMP:20260423T160828
CREATED:20260416T165338Z
LAST-MODIFIED:20260416T165448Z
UID:1759-1779620400-1779624000@uppcdm.org
SUMMARY:Evangelism & Outreach meeting after Worship
DESCRIPTION:
URL:https://uppcdm.org/event/evangelism-outreach-meeting-after-worship/
LOCATION:Union Park Presbyterian Church Fellowship Hall\, 1307 Thompson Ave.\, Des Moines\, Iowa
END:VEVENT
BEGIN:VEVENT
DTSTART;TZID=UTC:20260524T120000
DTEND;TZID=UTC:20260524T130000
DTSTAMP:20260423T160828
CREATED:20260401T160807Z
LAST-MODIFIED:20260401T160807Z
UID:1704-1779624000-1779627600@uppcdm.org
SUMMARY:Coffee/Fellowship
DESCRIPTION:
URL:https://uppcdm.org/event/coffee-fellowship-79/
LOCATION:Union Park Presbyterian Church Fellowship Hall\, 1307 Thompson Ave.\, Des Moines\, Iowa
END:VEVENT
END:VCALENDAR