BEGIN:VCALENDAR
VERSION:2.0
PRODID:-//uppcdm - ECPv6.15.20//NONSGML v1.0//EN
CALSCALE:GREGORIAN
METHOD:PUBLISH
X-ORIGINAL-URL:https://uppcdm.org
X-WR-CALDESC:Events for uppcdm
REFRESH-INTERVAL;VALUE=DURATION:PT1H
X-Robots-Tag:noindex
X-PUBLISHED-TTL:PT1H
BEGIN:VTIMEZONE
TZID:UTC
BEGIN:STANDARD
TZOFFSETFROM:+0000
TZOFFSETTO:+0000
TZNAME:UTC
DTSTART:20250101T000000
END:STANDARD
END:VTIMEZONE
BEGIN:VEVENT
DTSTART;TZID=UTC:20260521T123000
DTEND;TZID=UTC:20260521T133000
DTSTAMP:20260423T155223
CREATED:20260401T164113Z
LAST-MODIFIED:20260401T164132Z
UID:1734-1779366600-1779370200@uppcdm.org
SUMMARY:Bible Study
DESCRIPTION:Please feel free and you will be Welcome to come and learn with us! Every 1st and 3rd Thursday.
URL:https://uppcdm.org/event/bible-study-13/
LOCATION:UPPC Meeting Room
END:VEVENT
END:VCALENDAR