BEGIN:VCALENDAR
VERSION:2.0
PRODID:-//uppcdm - ECPv6.15.20//NONSGML v1.0//EN
CALSCALE:GREGORIAN
METHOD:PUBLISH
X-ORIGINAL-URL:https://uppcdm.org
X-WR-CALDESC:Events for uppcdm
REFRESH-INTERVAL;VALUE=DURATION:PT1H
X-Robots-Tag:noindex
X-PUBLISHED-TTL:PT1H
BEGIN:VTIMEZONE
TZID:UTC
BEGIN:STANDARD
TZOFFSETFROM:+0000
TZOFFSETTO:+0000
TZNAME:UTC
DTSTART:20250101T000000
END:STANDARD
END:VTIMEZONE
BEGIN:VEVENT
DTSTART;TZID=UTC:20260520T090000
DTEND;TZID=UTC:20260520T110000
DTSTAMP:20260423T160308
CREATED:20260401T161827Z
LAST-MODIFIED:20260401T161827Z
UID:1712-1779267600-1779274800@uppcdm.org
SUMMARY:Men's Coffee/Fellowship
DESCRIPTION:
URL:https://uppcdm.org/event/mens-coffee-fellowship-3/
LOCATION:Union Park Presbyterian Church Fellowship Hall\, 1307 Thompson Ave.\, Des Moines\, Iowa
END:VEVENT
BEGIN:VEVENT
DTSTART;TZID=UTC:20260520T110000
DTEND;TZID=UTC:20260520T120000
DTSTAMP:20260423T160308
CREATED:20260401T162720Z
LAST-MODIFIED:20260401T162720Z
UID:1721-1779274800-1779278400@uppcdm.org
SUMMARY:Slow Down Coffee with Pastor Doug
DESCRIPTION:
URL:https://uppcdm.org/event/slow-down-coffee-with-pastor-doug-15/
LOCATION:Slow Down Coffee Shop\, 3613 6th Avenue\, Des Moines\, Iowa
END:VEVENT
BEGIN:VEVENT
DTSTART;TZID=UTC:20260520T130000
DTEND;TZID=UTC:20260520T143000
DTSTAMP:20260423T160308
CREATED:20260401T163229Z
LAST-MODIFIED:20260401T163229Z
UID:1727-1779282000-1779287400@uppcdm.org
SUMMARY:Choir Rehearsal
DESCRIPTION:
URL:https://uppcdm.org/event/choir-rehearsal-17/
LOCATION:Union Park Presbyterian Church Fellowship Hall\, 1307 Thompson Ave.\, Des Moines\, Iowa
END:VEVENT
BEGIN:VEVENT
DTSTART;TZID=UTC:20260520T183000
DTEND;TZID=UTC:20260520T203000
DTSTAMP:20260423T160308
CREATED:20260401T163423Z
LAST-MODIFIED:20260401T163458Z
UID:1729-1779301800-1779309000@uppcdm.org
SUMMARY:Session Meeting
DESCRIPTION:
URL:https://uppcdm.org/event/session-4/
LOCATION:UPPC Meeting Room
END:VEVENT
END:VCALENDAR