BEGIN:VCALENDAR
VERSION:2.0
PRODID:-//uppcdm - ECPv6.15.20//NONSGML v1.0//EN
CALSCALE:GREGORIAN
METHOD:PUBLISH
X-ORIGINAL-URL:https://uppcdm.org
X-WR-CALDESC:Events for uppcdm
REFRESH-INTERVAL;VALUE=DURATION:PT1H
X-Robots-Tag:noindex
X-PUBLISHED-TTL:PT1H
BEGIN:VTIMEZONE
TZID:UTC
BEGIN:STANDARD
TZOFFSETFROM:+0000
TZOFFSETTO:+0000
TZNAME:UTC
DTSTART:20250101T000000
END:STANDARD
END:VTIMEZONE
BEGIN:VEVENT
DTSTART;VALUE=DATE:20260517
DTEND;VALUE=DATE:20260518
DTSTAMP:20260423T160309
CREATED:20260401T153958Z
LAST-MODIFIED:20260401T153958Z
UID:1678-1778976000-1779062399@uppcdm.org
SUMMARY:7th Sunday of Easter
DESCRIPTION:
URL:https://uppcdm.org/event/7th-sunday-of-easter/
LOCATION:Iowa
END:VEVENT
BEGIN:VEVENT
DTSTART;TZID=UTC:20260517T110000
DTEND;TZID=UTC:20260517T120000
DTSTAMP:20260423T160309
CREATED:20260401T155440Z
LAST-MODIFIED:20260401T155440Z
UID:1692-1779015600-1779019200@uppcdm.org
SUMMARY:Worship Service
DESCRIPTION:
URL:https://uppcdm.org/event/worship-service-19/
LOCATION:Sanctuary
END:VEVENT
BEGIN:VEVENT
DTSTART;TZID=UTC:20260517T120000
DTEND;TZID=UTC:20260517T130000
DTSTAMP:20260423T160309
CREATED:20260401T160312Z
LAST-MODIFIED:20260401T160312Z
UID:1702-1779019200-1779022800@uppcdm.org
SUMMARY:Coffee/Fellowship
DESCRIPTION:
URL:https://uppcdm.org/event/coffee-fellowship-78/
LOCATION:Union Park Presbyterian Church Fellowship Hall\, 1307 Thompson Ave.\, Des Moines\, Iowa
END:VEVENT
BEGIN:VEVENT
DTSTART;TZID=UTC:20260517T120000
DTEND;TZID=UTC:20260517T130000
DTSTAMP:20260423T160309
CREATED:20260416T165217Z
LAST-MODIFIED:20260416T165217Z
UID:1757-1779019200-1779022800@uppcdm.org
SUMMARY:Worship & Nurture meeting after Worship
DESCRIPTION:
URL:https://uppcdm.org/event/worship-nurture-meeting-after-worship/
LOCATION:Union Park Presbyterian Church Fellowship Hall\, 1307 Thompson Ave.\, Des Moines\, Iowa
END:VEVENT
END:VCALENDAR