BEGIN:VCALENDAR
VERSION:2.0
PRODID:-//uppcdm - ECPv6.15.20//NONSGML v1.0//EN
CALSCALE:GREGORIAN
METHOD:PUBLISH
X-ORIGINAL-URL:https://uppcdm.org
X-WR-CALDESC:Events for uppcdm
REFRESH-INTERVAL;VALUE=DURATION:PT1H
X-Robots-Tag:noindex
X-PUBLISHED-TTL:PT1H
BEGIN:VTIMEZONE
TZID:UTC
BEGIN:STANDARD
TZOFFSETFROM:+0000
TZOFFSETTO:+0000
TZNAME:UTC
DTSTART:20250101T000000
END:STANDARD
END:VTIMEZONE
BEGIN:VEVENT
DTSTART;TZID=UTC:20260513T090000
DTEND;TZID=UTC:20260513T110000
DTSTAMP:20260423T160433
CREATED:20260401T161713Z
LAST-MODIFIED:20260401T161713Z
UID:1710-1778662800-1778670000@uppcdm.org
SUMMARY:Men's Coffee/Fellowship
DESCRIPTION:
URL:https://uppcdm.org/event/mens-coffee-fellowship-2/
LOCATION:Union Park Presbyterian Church Fellowship Hall\, 1307 Thompson Ave.\, Des Moines\, Iowa
END:VEVENT
BEGIN:VEVENT
DTSTART;TZID=UTC:20260513T110000
DTEND;TZID=UTC:20260513T120000
DTSTAMP:20260423T160433
CREATED:20260401T162531Z
LAST-MODIFIED:20260401T162531Z
UID:1719-1778670000-1778673600@uppcdm.org
SUMMARY:Slow Down Coffee with Pastor Doug
DESCRIPTION:Come! Learn about the Bible and join in the discussion.
URL:https://uppcdm.org/event/slow-down-coffee-with-pastor-doug-14/
LOCATION:Slow Down Coffee Shop\, 3613 6th Avenue\, Des Moines\, Iowa
END:VEVENT
BEGIN:VEVENT
DTSTART;TZID=UTC:20260513T130000
DTEND;TZID=UTC:20260513T143000
DTSTAMP:20260423T160433
CREATED:20260401T163113Z
LAST-MODIFIED:20260401T163113Z
UID:1725-1778677200-1778682600@uppcdm.org
SUMMARY:Choir Rehearsal
DESCRIPTION:
URL:https://uppcdm.org/event/choir-rehearsal-16/
LOCATION:Sanctuary
END:VEVENT
END:VCALENDAR