BEGIN:VCALENDAR
VERSION:2.0
PRODID:-//uppcdm - ECPv6.15.20//NONSGML v1.0//EN
CALSCALE:GREGORIAN
METHOD:PUBLISH
X-ORIGINAL-URL:https://uppcdm.org
X-WR-CALDESC:Events for uppcdm
REFRESH-INTERVAL;VALUE=DURATION:PT1H
X-Robots-Tag:noindex
X-PUBLISHED-TTL:PT1H
BEGIN:VTIMEZONE
TZID:UTC
BEGIN:STANDARD
TZOFFSETFROM:+0000
TZOFFSETTO:+0000
TZNAME:UTC
DTSTART:20250101T000000
END:STANDARD
END:VTIMEZONE
BEGIN:VEVENT
DTSTART;VALUE=DATE:20260503
DTEND;VALUE=DATE:20260504
DTSTAMP:20260423T160411
CREATED:20260401T153816Z
LAST-MODIFIED:20260401T153816Z
UID:1674-1777766400-1777852799@uppcdm.org
SUMMARY:5th Sunday of Easter
DESCRIPTION:
URL:https://uppcdm.org/event/5th-sunday-of-easter/
LOCATION:Iowa
END:VEVENT
BEGIN:VEVENT
DTSTART;TZID=UTC:20260503T110000
DTEND;TZID=UTC:20260503T120000
DTSTAMP:20260423T160411
CREATED:20260401T155153Z
LAST-MODIFIED:20260401T155153Z
UID:1688-1777806000-1777809600@uppcdm.org
SUMMARY:Worship Service with Communion
DESCRIPTION:
URL:https://uppcdm.org/event/worship-service-with-communion/
LOCATION:Sanctuary
END:VEVENT
BEGIN:VEVENT
DTSTART;TZID=UTC:20260503T120000
DTEND;TZID=UTC:20260503T130000
DTSTAMP:20260423T160411
CREATED:20260401T160031Z
LAST-MODIFIED:20260401T160031Z
UID:1698-1777809600-1777813200@uppcdm.org
SUMMARY:Coffee/Fellowship
DESCRIPTION:A chance to mingle with our members and introduce yourself.
URL:https://uppcdm.org/event/coffee-fellowship-76/
LOCATION:Union Park Presbyterian Church Fellowship Hall\, 1307 Thompson Ave.\, Des Moines\, Iowa
END:VEVENT
END:VCALENDAR