BEGIN:VCALENDAR
VERSION:2.0
PRODID:-//uppcdm - ECPv6.15.20//NONSGML v1.0//EN
CALSCALE:GREGORIAN
METHOD:PUBLISH
X-WR-CALNAME:uppcdm
X-ORIGINAL-URL:https://uppcdm.org
X-WR-CALDESC:Events for uppcdm
REFRESH-INTERVAL;VALUE=DURATION:PT1H
X-Robots-Tag:noindex
X-PUBLISHED-TTL:PT1H
BEGIN:VTIMEZONE
TZID:UTC
BEGIN:STANDARD
TZOFFSETFROM:+0000
TZOFFSETTO:+0000
TZNAME:UTC
DTSTART:20250101T000000
END:STANDARD
END:VTIMEZONE
BEGIN:VEVENT
DTSTART;TZID=UTC:20260429T090000
DTEND;TZID=UTC:20260429T110000
DTSTAMP:20260423T144214
CREATED:20260303T182735Z
LAST-MODIFIED:20260303T182735Z
UID:1617-1777453200-1777460400@uppcdm.org
SUMMARY:Coffee/Fellowship
DESCRIPTION:Join our men for Coffee and Donuts
URL:https://uppcdm.org/event/coffee-fellowship-75/
LOCATION:Iowa
END:VEVENT
BEGIN:VEVENT
DTSTART;TZID=UTC:20260429T090000
DTEND;TZID=UTC:20260429T130000
DTSTAMP:20260423T144214
CREATED:20260318T151155Z
LAST-MODIFIED:20260318T151155Z
UID:1668-1777453200-1777467600@uppcdm.org
SUMMARY:Office Open
DESCRIPTION:
URL:https://uppcdm.org/event/office-open-9/
LOCATION:Union Park Presbyterian Church\, 1307 Thompson Ave.\, Des Moines\, Iowa
ORGANIZER;CN="Dorothy Quartey":MAILTO:office.uppc@gmail.com
END:VEVENT
BEGIN:VEVENT
DTSTART;TZID=UTC:20260429T110000
DTEND;TZID=UTC:20260429T120000
DTSTAMP:20260423T144214
CREATED:20260304T150015Z
LAST-MODIFIED:20260304T150015Z
UID:1625-1777460400-1777464000@uppcdm.org
SUMMARY:Slow Down Coffee with Pastor Doug
DESCRIPTION:
URL:https://uppcdm.org/event/slow-down-coffee-with-pastor-doug-13/
LOCATION:Slow Down Coffee Shop\, 3613 6th Avenue\, Des Moines\, Iowa
END:VEVENT
BEGIN:VEVENT
DTSTART;TZID=UTC:20260429T130000
DTEND;TZID=UTC:20260429T143000
DTSTAMP:20260423T144214
CREATED:20260304T150636Z
LAST-MODIFIED:20260304T150636Z
UID:1634-1777467600-1777473000@uppcdm.org
SUMMARY:Choir Rehearsal
DESCRIPTION:
URL:https://uppcdm.org/event/choir-rehearsal-15/
LOCATION:Union Park Presbyterian Church\, 1307 Thompson Ave.\, Des Moines\, Iowa
END:VEVENT
END:VCALENDAR