BEGIN:VCALENDAR
VERSION:2.0
PRODID:-//uppcdm - ECPv6.15.20//NONSGML v1.0//EN
CALSCALE:GREGORIAN
METHOD:PUBLISH
X-ORIGINAL-URL:https://uppcdm.org
X-WR-CALDESC:Events for uppcdm
REFRESH-INTERVAL;VALUE=DURATION:PT1H
X-Robots-Tag:noindex
X-PUBLISHED-TTL:PT1H
BEGIN:VTIMEZONE
TZID:UTC
BEGIN:STANDARD
TZOFFSETFROM:+0000
TZOFFSETTO:+0000
TZNAME:UTC
DTSTART:20250101T000000
END:STANDARD
END:VTIMEZONE
BEGIN:VEVENT
DTSTART;TZID=UTC:20260415T090000
DTEND;TZID=UTC:20260415T110000
DTSTAMP:20260423T145314
CREATED:20260303T182509Z
LAST-MODIFIED:20260303T182509Z
UID:1612-1776243600-1776250800@uppcdm.org
SUMMARY:Coffee/Fellowship
DESCRIPTION:Join our men for Coffee and Donuts
URL:https://uppcdm.org/event/coffee-fellowship-73/
LOCATION:Iowa
END:VEVENT
BEGIN:VEVENT
DTSTART;TZID=UTC:20260415T090000
DTEND;TZID=UTC:20260415T130000
DTSTAMP:20260423T145314
CREATED:20260318T151009Z
LAST-MODIFIED:20260318T151009Z
UID:1664-1776243600-1776258000@uppcdm.org
SUMMARY:Office Open
DESCRIPTION:
URL:https://uppcdm.org/event/office-open-7/
LOCATION:Union Park Presbyterian Church\, 1307 Thompson Ave.\, Des Moines\, Iowa
ORGANIZER;CN="Dorothy Quartey":MAILTO:office.uppc@gmail.com
END:VEVENT
BEGIN:VEVENT
DTSTART;TZID=UTC:20260415T110000
DTEND;TZID=UTC:20260415T120000
DTSTAMP:20260423T145314
CREATED:20260304T145828Z
LAST-MODIFIED:20260304T145828Z
UID:1621-1776250800-1776254400@uppcdm.org
SUMMARY:Slow Down Coffee with Pastor Doug
DESCRIPTION:
URL:https://uppcdm.org/event/slow-down-coffee-with-pastor-doug-11/
LOCATION:Slow Down Coffee Shop\, 3613 6th Avenue\, Des Moines\, Iowa
END:VEVENT
BEGIN:VEVENT
DTSTART;TZID=UTC:20260415T130000
DTEND;TZID=UTC:20260415T143000
DTSTAMP:20260423T145314
CREATED:20260304T150442Z
LAST-MODIFIED:20260304T150442Z
UID:1630-1776258000-1776263400@uppcdm.org
SUMMARY:Choir Rehearsal
DESCRIPTION:
URL:https://uppcdm.org/event/choir-rehearsal-13/
LOCATION:Union Park Presbyterian Church\, 1307 Thompson Ave.\, Des Moines\, Iowa
END:VEVENT
BEGIN:VEVENT
DTSTART;TZID=UTC:20260415T183000
DTEND;TZID=UTC:20260415T200000
DTSTAMP:20260423T145314
CREATED:20260304T151039Z
LAST-MODIFIED:20260304T151039Z
UID:1636-1776277800-1776283200@uppcdm.org
SUMMARY:Sessions
DESCRIPTION:
URL:https://uppcdm.org/event/sessions/
LOCATION:UPPC Meeting Room
END:VEVENT
END:VCALENDAR