BEGIN:VCALENDAR
VERSION:2.0
PRODID:-//uppcdm - ECPv6.15.20//NONSGML v1.0//EN
CALSCALE:GREGORIAN
METHOD:PUBLISH
X-WR-CALNAME:uppcdm
X-ORIGINAL-URL:https://uppcdm.org
X-WR-CALDESC:Events for uppcdm
REFRESH-INTERVAL;VALUE=DURATION:PT1H
X-Robots-Tag:noindex
X-PUBLISHED-TTL:PT1H
BEGIN:VTIMEZONE
TZID:UTC
BEGIN:STANDARD
TZOFFSETFROM:+0000
TZOFFSETTO:+0000
TZNAME:UTC
DTSTART:20250101T000000
END:STANDARD
END:VTIMEZONE
BEGIN:VEVENT
DTSTART;VALUE=DATE:20260402
DTEND;VALUE=DATE:20260403
DTSTAMP:20260423T144216
CREATED:20260303T180726Z
LAST-MODIFIED:20260303T180726Z
UID:1603-1775088000-1775174399@uppcdm.org
SUMMARY:Maundy Thursday
DESCRIPTION:
URL:https://uppcdm.org/event/maundy-thursday/
LOCATION:Iowa
END:VEVENT
BEGIN:VEVENT
DTSTART;TZID=UTC:20260402T123000
DTEND;TZID=UTC:20260402T133000
DTSTAMP:20260423T144216
CREATED:20260304T151409Z
LAST-MODIFIED:20260304T151409Z
UID:1639-1775133000-1775136600@uppcdm.org
SUMMARY:Bible Study
DESCRIPTION:Come and get a clearer understanding of what you are reading. You’ll enjoy it\, praise be to God!
URL:https://uppcdm.org/event/bible-study-11/
LOCATION:UPPC Meeting Room
END:VEVENT
BEGIN:VEVENT
DTSTART;TZID=UTC:20260402T180000
DTEND;TZID=UTC:20260402T200000
DTSTAMP:20260423T144216
CREATED:20260218T162618Z
LAST-MODIFIED:20260325T143014Z
UID:1546-1775152800-1775160000@uppcdm.org
SUMMARY:Maundy Thursday @ Grimes First Presbyterian Church
DESCRIPTION:A Celebration of the Last Supper! \nSliders & Soup Supper Following Service\, Join us!
URL:https://uppcdm.org/event/maundy-thursday-grimes-first-presbyterian-church/
LOCATION:Iowa
END:VEVENT
END:VCALENDAR