BEGIN:VCALENDAR
VERSION:2.0
PRODID:-//uppcdm - ECPv6.15.20//NONSGML v1.0//EN
CALSCALE:GREGORIAN
METHOD:PUBLISH
X-ORIGINAL-URL:https://uppcdm.org
X-WR-CALDESC:Events for uppcdm
REFRESH-INTERVAL;VALUE=DURATION:PT1H
X-Robots-Tag:noindex
X-PUBLISHED-TTL:PT1H
BEGIN:VTIMEZONE
TZID:UTC
BEGIN:STANDARD
TZOFFSETFROM:+0000
TZOFFSETTO:+0000
TZNAME:UTC
DTSTART:20250101T000000
END:STANDARD
END:VTIMEZONE
BEGIN:VEVENT
DTSTART;VALUE=DATE:20260401
DTEND;VALUE=DATE:20260402
DTSTAMP:20260423T144401
CREATED:20260303T180448Z
LAST-MODIFIED:20260303T180448Z
UID:1601-1775001600-1775087999@uppcdm.org
SUMMARY:Wednesday of Holy Week
DESCRIPTION:
URL:https://uppcdm.org/event/wednesday-of-holy-week/
LOCATION:Iowa
END:VEVENT
BEGIN:VEVENT
DTSTART;VALUE=DATE:20260401
DTEND;VALUE=DATE:20260402
DTSTAMP:20260423T144401
CREATED:20260401T164322Z
LAST-MODIFIED:20260401T164322Z
UID:1736-1775001600-1775087999@uppcdm.org
SUMMARY:Ascension of the Lord
DESCRIPTION:
URL:https://uppcdm.org/event/ascension-of-the-lord/
LOCATION:Iowa
END:VEVENT
BEGIN:VEVENT
DTSTART;TZID=UTC:20260401T090000
DTEND;TZID=UTC:20260401T110000
DTSTAMP:20260423T144401
CREATED:20260218T161902Z
LAST-MODIFIED:20260218T161902Z
UID:1541-1775034000-1775041200@uppcdm.org
SUMMARY:Coffee Fellowship
DESCRIPTION:
URL:https://uppcdm.org/event/coffee-fellowship-66/
LOCATION:Union Park Presbyterian Church Fellowship Hall\, 1307 Thompson Ave.\, Des Moines\, Iowa
END:VEVENT
BEGIN:VEVENT
DTSTART;TZID=UTC:20260401T090000
DTEND;TZID=UTC:20260401T130000
DTSTAMP:20260423T144401
CREATED:20260318T150817Z
LAST-MODIFIED:20260318T150817Z
UID:1660-1775034000-1775048400@uppcdm.org
SUMMARY:Office Open
DESCRIPTION:
URL:https://uppcdm.org/event/office-open-5/
LOCATION:Union Park Presbyterian Church\, 1307 Thompson Ave.\, Des Moines\, Iowa
ORGANIZER;CN="Dorothy Quartey":MAILTO:office.uppc@gmail.com
END:VEVENT
BEGIN:VEVENT
DTSTART;TZID=UTC:20260401T123000
DTEND;TZID=UTC:20260401T140000
DTSTAMP:20260423T144401
CREATED:20260218T162356Z
LAST-MODIFIED:20260303T180539Z
UID:1543-1775046600-1775052000@uppcdm.org
SUMMARY:Presbyterian Women Meeting
DESCRIPTION:
URL:https://uppcdm.org/event/presbyterian-women-meeting-2/
LOCATION:Union Park Presbyterian Church Fellowship Hall\, 1307 Thompson Ave.\, Des Moines\, Iowa
END:VEVENT
END:VCALENDAR