BEGIN:VCALENDAR
VERSION:2.0
PRODID:-//uppcdm - ECPv6.15.20//NONSGML v1.0//EN
CALSCALE:GREGORIAN
METHOD:PUBLISH
X-ORIGINAL-URL:https://uppcdm.org
X-WR-CALDESC:Events for uppcdm
REFRESH-INTERVAL;VALUE=DURATION:PT1H
X-Robots-Tag:noindex
X-PUBLISHED-TTL:PT1H
BEGIN:VTIMEZONE
TZID:UTC
BEGIN:STANDARD
TZOFFSETFROM:+0000
TZOFFSETTO:+0000
TZNAME:UTC
DTSTART:20250101T000000
END:STANDARD
END:VTIMEZONE
BEGIN:VEVENT
DTSTART;TZID=UTC:20260309T183000
DTEND;TZID=UTC:20260309T200000
DTSTAMP:20260423T161845
CREATED:20260222T161901Z
LAST-MODIFIED:20260222T161901Z
UID:1550-1773081000-1773086400@uppcdm.org
SUMMARY:Book Club with Pastor Basler
DESCRIPTION:This month we are reading Mink River by Brian Doyle at the Church.  6:30 PM. Join us for fun and insights.
URL:https://uppcdm.org/event/book-club-with-pastor-basler/
LOCATION:Union Park Presbyterian Church\, 1307 Thompson Ave.\, Des Moines\, Iowa
END:VEVENT
END:VCALENDAR