BEGIN:VCALENDAR
VERSION:2.0
PRODID:-//uppcdm - ECPv6.15.20//NONSGML v1.0//EN
CALSCALE:GREGORIAN
METHOD:PUBLISH
X-WR-CALNAME:uppcdm
X-ORIGINAL-URL:https://uppcdm.org
X-WR-CALDESC:Events for uppcdm
REFRESH-INTERVAL;VALUE=DURATION:PT1H
X-Robots-Tag:noindex
X-PUBLISHED-TTL:PT1H
BEGIN:VTIMEZONE
TZID:UTC
BEGIN:STANDARD
TZOFFSETFROM:+0000
TZOFFSETTO:+0000
TZNAME:UTC
DTSTART:20250101T000000
END:STANDARD
END:VTIMEZONE
BEGIN:VEVENT
DTSTART;TZID=UTC:20260124T100000
DTEND;TZID=UTC:20260124T140000
DTSTAMP:20260423T190532
CREATED:20251126T203347Z
LAST-MODIFIED:20260107T162828Z
UID:1261-1769248800-1769263200@uppcdm.org
SUMMARY:CIACUG Office Open
DESCRIPTION:
URL:https://uppcdm.org/event/ciacug-office-open-19/
LOCATION:UPPC Meeting Room
END:VEVENT
END:VCALENDAR