BEGIN:VCALENDAR
VERSION:2.0
PRODID:-//uppcdm - ECPv6.15.20//NONSGML v1.0//EN
CALSCALE:GREGORIAN
METHOD:PUBLISH
X-WR-CALNAME:uppcdm
X-ORIGINAL-URL:https://uppcdm.org
X-WR-CALDESC:Events for uppcdm
REFRESH-INTERVAL;VALUE=DURATION:PT1H
X-Robots-Tag:noindex
X-PUBLISHED-TTL:PT1H
BEGIN:VTIMEZONE
TZID:UTC
BEGIN:STANDARD
TZOFFSETFROM:+0000
TZOFFSETTO:+0000
TZNAME:UTC
DTSTART:20250101T000000
END:STANDARD
END:VTIMEZONE
BEGIN:VEVENT
DTSTART;VALUE=DATE:20260118
DTEND;VALUE=DATE:20260119
DTSTAMP:20260423T190532
CREATED:20251210T212812Z
LAST-MODIFIED:20260110T200151Z
UID:1316-1768694400-1768780799@uppcdm.org
SUMMARY:2nd Sunday after Epiphany
DESCRIPTION:
URL:https://uppcdm.org/event/3rd-sunday-after-epiphany/
LOCATION:Iowa
END:VEVENT
BEGIN:VEVENT
DTSTART;TZID=UTC:20260118T110000
DTEND;TZID=UTC:20260118T120000
DTSTAMP:20260423T190532
CREATED:20251210T212618Z
LAST-MODIFIED:20251210T212618Z
UID:1312-1768734000-1768737600@uppcdm.org
SUMMARY:Worship
DESCRIPTION:
URL:https://uppcdm.org/event/worship-14/
LOCATION:Iowa
END:VEVENT
BEGIN:VEVENT
DTSTART;TZID=UTC:20260118T120000
DTEND;TZID=UTC:20260118T130000
DTSTAMP:20260423T190532
CREATED:20251210T212716Z
LAST-MODIFIED:20251210T212716Z
UID:1314-1768737600-1768741200@uppcdm.org
SUMMARY:Coffee Fellowship
DESCRIPTION:
URL:https://uppcdm.org/event/coffee-fellowship-47/
LOCATION:Union Park Presbyterian Church Fellowship Hall\, 1307 Thompson Ave.\, Des Moines\, Iowa
END:VEVENT
BEGIN:VEVENT
DTSTART;TZID=UTC:20260118T120000
DTEND;TZID=UTC:20260118T130000
DTSTAMP:20260423T190532
CREATED:20251221T160857Z
LAST-MODIFIED:20251221T160857Z
UID:1334-1768737600-1768741200@uppcdm.org
SUMMARY:W & N Meeting
DESCRIPTION:
URL:https://uppcdm.org/event/w-n-meeting-2/
LOCATION:Union Park Presbyterian Church Fellowship Hall\, 1307 Thompson Ave.\, Des Moines\, Iowa
END:VEVENT
END:VCALENDAR