BEGIN:VCALENDAR
VERSION:2.0
PRODID:-//uppcdm - ECPv6.15.20//NONSGML v1.0//EN
CALSCALE:GREGORIAN
METHOD:PUBLISH
X-WR-CALNAME:uppcdm
X-ORIGINAL-URL:https://uppcdm.org
X-WR-CALDESC:Events for uppcdm
REFRESH-INTERVAL;VALUE=DURATION:PT1H
X-Robots-Tag:noindex
X-PUBLISHED-TTL:PT1H
BEGIN:VTIMEZONE
TZID:UTC
BEGIN:STANDARD
TZOFFSETFROM:+0000
TZOFFSETTO:+0000
TZNAME:UTC
DTSTART:20240101T000000
END:STANDARD
END:VTIMEZONE
BEGIN:VEVENT
DTSTART;VALUE=DATE:20251231
DTEND;VALUE=DATE:20260101
DTSTAMP:20260423T190531
CREATED:20251105T170225Z
LAST-MODIFIED:20251105T170225Z
UID:1209-1767139200-1767225599@uppcdm.org
SUMMARY:New Year's Eve
DESCRIPTION:
URL:https://uppcdm.org/event/new-years-eve/
LOCATION:Iowa
END:VEVENT
BEGIN:VEVENT
DTSTART;TZID=UTC:20251231T110000
DTEND;TZID=UTC:20251231T120000
DTSTAMP:20260423T190531
CREATED:20251126T171956Z
LAST-MODIFIED:20251126T171956Z
UID:1253-1767178800-1767182400@uppcdm.org
SUMMARY:Coffee & Fellowship
DESCRIPTION:
URL:https://uppcdm.org/event/coffee-fellowship-40/
LOCATION:Union Park Presbyterian Church Fellowship Hall\, 1307 Thompson Ave.\, Des Moines\, Iowa
END:VEVENT
END:VCALENDAR