BEGIN:VCALENDAR
VERSION:2.0
PRODID:-//uppcdm - ECPv6.15.20//NONSGML v1.0//EN
CALSCALE:GREGORIAN
METHOD:PUBLISH
X-ORIGINAL-URL:https://uppcdm.org
X-WR-CALDESC:Events for uppcdm
REFRESH-INTERVAL;VALUE=DURATION:PT1H
X-Robots-Tag:noindex
X-PUBLISHED-TTL:PT1H
BEGIN:VTIMEZONE
TZID:UTC
BEGIN:STANDARD
TZOFFSETFROM:+0000
TZOFFSETTO:+0000
TZNAME:UTC
DTSTART:20240101T000000
END:STANDARD
END:VTIMEZONE
BEGIN:VEVENT
DTSTART;TZID=UTC:20251224T163000
DTEND;TZID=UTC:20251224T170000
DTSTAMP:20260423T203324
CREATED:20251224T154350Z
LAST-MODIFIED:20251224T154350Z
UID:1336-1766593800-1766595600@uppcdm.org
SUMMARY:4:45 p.m. Choir rehearsal
DESCRIPTION:
URL:https://uppcdm.org/event/445-p-m-choir-rehearsal/
LOCATION:Iowa
END:VEVENT
BEGIN:VEVENT
DTSTART;TZID=UTC:20251224T173000
DTEND;TZID=UTC:20251224T180000
DTSTAMP:20260423T203324
CREATED:20251105T170141Z
LAST-MODIFIED:20251126T171755Z
UID:1207-1766597400-1766599200@uppcdm.org
SUMMARY:Christmas Eve Candlelight Service
DESCRIPTION:
URL:https://uppcdm.org/event/christmas-eve-candlelight-service/
LOCATION:Iowa
END:VEVENT
END:VCALENDAR