BEGIN:VCALENDAR
VERSION:2.0
PRODID:-//uppcdm - ECPv6.15.20//NONSGML v1.0//EN
CALSCALE:GREGORIAN
METHOD:PUBLISH
X-WR-CALNAME:uppcdm
X-ORIGINAL-URL:https://uppcdm.org
X-WR-CALDESC:Events for uppcdm
REFRESH-INTERVAL;VALUE=DURATION:PT1H
X-Robots-Tag:noindex
X-PUBLISHED-TTL:PT1H
BEGIN:VTIMEZONE
TZID:UTC
BEGIN:STANDARD
TZOFFSETFROM:+0000
TZOFFSETTO:+0000
TZNAME:UTC
DTSTART:20240101T000000
END:STANDARD
END:VTIMEZONE
BEGIN:VEVENT
DTSTART;VALUE=DATE:20251221
DTEND;VALUE=DATE:20251222
DTSTAMP:20260423T203125
CREATED:20251105T154736Z
LAST-MODIFIED:20251105T154736Z
UID:1166-1766275200-1766361599@uppcdm.org
SUMMARY:4th Sunday of Advent
DESCRIPTION:
URL:https://uppcdm.org/event/4th-sunday-of-advent/
LOCATION:Iowa
END:VEVENT
BEGIN:VEVENT
DTSTART;TZID=UTC:20251221T110000
DTEND;TZID=UTC:20251221T120000
DTSTAMP:20260423T203125
CREATED:20251105T155409Z
LAST-MODIFIED:20251106T173410Z
UID:1169-1766314800-1766318400@uppcdm.org
SUMMARY:Worship Service
DESCRIPTION:
URL:https://uppcdm.org/event/worship-service-6/
LOCATION:Iowa
END:VEVENT
BEGIN:VEVENT
DTSTART;TZID=UTC:20251221T110000
DTEND;TZID=UTC:20251221T130000
DTSTAMP:20260423T203125
CREATED:20251126T171456Z
LAST-MODIFIED:20251126T171456Z
UID:1249-1766314800-1766322000@uppcdm.org
SUMMARY:Christmas Joy Offering
DESCRIPTION:
URL:https://uppcdm.org/event/christmas-joy-offering-3/
LOCATION:Iowa
END:VEVENT
BEGIN:VEVENT
DTSTART;TZID=UTC:20251221T120000
DTEND;TZID=UTC:20251221T130000
DTSTAMP:20260423T203125
CREATED:20251105T155859Z
LAST-MODIFIED:20251105T155859Z
UID:1175-1766318400-1766322000@uppcdm.org
SUMMARY:Coffee/Fellowship
DESCRIPTION:
URL:https://uppcdm.org/event/coffee-fellowship-35/
LOCATION:Iowa
END:VEVENT
END:VCALENDAR