BEGIN:VCALENDAR
VERSION:2.0
PRODID:-//uppcdm - ECPv6.15.20//NONSGML v1.0//EN
CALSCALE:GREGORIAN
METHOD:PUBLISH
X-ORIGINAL-URL:https://uppcdm.org
X-WR-CALDESC:Events for uppcdm
REFRESH-INTERVAL;VALUE=DURATION:PT1H
X-Robots-Tag:noindex
X-PUBLISHED-TTL:PT1H
BEGIN:VTIMEZONE
TZID:UTC
BEGIN:STANDARD
TZOFFSETFROM:+0000
TZOFFSETTO:+0000
TZNAME:UTC
DTSTART:20240101T000000
END:STANDARD
END:VTIMEZONE
BEGIN:VEVENT
DTSTART;TZID=UTC:20251217T090000
DTEND;TZID=UTC:20251217T110000
DTSTAMP:20260423T203232
CREATED:20251105T164521Z
LAST-MODIFIED:20251105T164521Z
UID:1199-1765962000-1765969200@uppcdm.org
SUMMARY:Coffee/Fellowship
DESCRIPTION:
URL:https://uppcdm.org/event/coffee-fellowship-39/
LOCATION:Iowa
END:VEVENT
BEGIN:VEVENT
DTSTART;TZID=UTC:20251217T110000
DTEND;TZID=UTC:20251217T120000
DTSTAMP:20260423T203232
CREATED:20251105T164229Z
LAST-MODIFIED:20251210T160847Z
UID:1197-1765969200-1765972800@uppcdm.org
SUMMARY:(Today's Event Cancelled) Slow Down Coffee with Pastor Doug
DESCRIPTION:
URL:https://uppcdm.org/event/slow-down-coffee-with-pastor-doug-2/
LOCATION:Slow Down Coffee Shop\, 3613 6th Avenue\, Des Moines\, Iowa
END:VEVENT
BEGIN:VEVENT
DTSTART;TZID=UTC:20251217T183000
DTEND;TZID=UTC:20251217T203000
DTSTAMP:20260423T203232
CREATED:20251105T164659Z
LAST-MODIFIED:20251105T164659Z
UID:1201-1765996200-1766003400@uppcdm.org
SUMMARY:Session Meeting
DESCRIPTION:
URL:https://uppcdm.org/event/session-meeting-4/
LOCATION:UPPC Meeting Room
END:VEVENT
END:VCALENDAR