BEGIN:VCALENDAR
VERSION:2.0
PRODID:-//uppcdm - ECPv6.15.20//NONSGML v1.0//EN
CALSCALE:GREGORIAN
METHOD:PUBLISH
X-WR-CALNAME:uppcdm
X-ORIGINAL-URL:https://uppcdm.org
X-WR-CALDESC:Events for uppcdm
REFRESH-INTERVAL;VALUE=DURATION:PT1H
X-Robots-Tag:noindex
X-PUBLISHED-TTL:PT1H
BEGIN:VTIMEZONE
TZID:UTC
BEGIN:STANDARD
TZOFFSETFROM:+0000
TZOFFSETTO:+0000
TZNAME:UTC
DTSTART:20240101T000000
END:STANDARD
END:VTIMEZONE
BEGIN:VEVENT
DTSTART;VALUE=DATE:20251207
DTEND;VALUE=DATE:20251208
DTSTAMP:20260423T203559
CREATED:20251105T153306Z
LAST-MODIFIED:20251105T154834Z
UID:1151-1765065600-1765151999@uppcdm.org
SUMMARY:2nd Sunday of Advent
DESCRIPTION:
URL:https://uppcdm.org/event/2nd-sunday-of-advent/
LOCATION:Iowa
END:VEVENT
BEGIN:VEVENT
DTSTART;TZID=UTC:20251207T110000
DTEND;TZID=UTC:20251207T120000
DTSTAMP:20260423T203559
CREATED:20251105T153907Z
LAST-MODIFIED:20251106T173649Z
UID:1157-1765105200-1765108800@uppcdm.org
SUMMARY:Worship with Communion
DESCRIPTION:
URL:https://uppcdm.org/event/worship-with-communion-3/
LOCATION:Iowa
END:VEVENT
BEGIN:VEVENT
DTSTART;TZID=UTC:20251207T110000
DTEND;TZID=UTC:20251207T130000
DTSTAMP:20260423T203559
CREATED:20251126T170719Z
LAST-MODIFIED:20251126T170719Z
UID:1237-1765105200-1765112400@uppcdm.org
SUMMARY:Christmas Joy Offering
DESCRIPTION:
URL:https://uppcdm.org/event/christmas-joy-offering/
LOCATION:Iowa
END:VEVENT
BEGIN:VEVENT
DTSTART;TZID=UTC:20251207T120000
DTEND;TZID=UTC:20251207T130000
DTSTAMP:20260423T203559
CREATED:20251105T153620Z
LAST-MODIFIED:20251105T153620Z
UID:1155-1765108800-1765112400@uppcdm.org
SUMMARY:Coffee/Fellowship
DESCRIPTION:
URL:https://uppcdm.org/event/coffee-fellowship-33/
LOCATION:Iowa
END:VEVENT
BEGIN:VEVENT
DTSTART;TZID=UTC:20251207T120000
DTEND;TZID=UTC:20251207T130000
DTSTAMP:20260423T203559
CREATED:20251126T170833Z
LAST-MODIFIED:20251126T170833Z
UID:1240-1765108800-1765112400@uppcdm.org
SUMMARY:E & O Meeting after Service
DESCRIPTION:
URL:https://uppcdm.org/event/e-o-meeting-after-service/
LOCATION:Union Park Presbyterian Church Fellowship Hall\, 1307 Thompson Ave.\, Des Moines\, Iowa
END:VEVENT
END:VCALENDAR