BEGIN:VCALENDAR
VERSION:2.0
PRODID:-//uppcdm - ECPv6.15.20//NONSGML v1.0//EN
CALSCALE:GREGORIAN
METHOD:PUBLISH
X-ORIGINAL-URL:https://uppcdm.org
X-WR-CALDESC:Events for uppcdm
REFRESH-INTERVAL;VALUE=DURATION:PT1H
X-Robots-Tag:noindex
X-PUBLISHED-TTL:PT1H
BEGIN:VTIMEZONE
TZID:UTC
BEGIN:STANDARD
TZOFFSETFROM:+0000
TZOFFSETTO:+0000
TZNAME:UTC
DTSTART:20240101T000000
END:STANDARD
END:VTIMEZONE
BEGIN:VEVENT
DTSTART;TZID=UTC:20251203T090000
DTEND;TZID=UTC:20251203T110000
DTSTAMP:20260423T203345
CREATED:20251105T161247Z
LAST-MODIFIED:20251105T164903Z
UID:1190-1764752400-1764759600@uppcdm.org
SUMMARY:Coffee/Fellowship
DESCRIPTION:
URL:https://uppcdm.org/event/coffee-fellowship-37/
LOCATION:Iowa
END:VEVENT
BEGIN:VEVENT
DTSTART;TZID=UTC:20251203T120000
DTEND;TZID=UTC:20251203T150000
DTSTAMP:20260423T203345
CREATED:20251126T171640Z
LAST-MODIFIED:20251126T171640Z
UID:1251-1764763200-1764774000@uppcdm.org
SUMMARY:Presbyterian Women Potluck @ Rose Glen
DESCRIPTION:
URL:https://uppcdm.org/event/presbyterian-women-potluck-rose-glen/
LOCATION:Rose Glenn at Luther Park\, 2808 E 16th St\,\, Des Moines\, IA\, 50316\, United States
END:VEVENT
END:VCALENDAR