BEGIN:VCALENDAR
VERSION:2.0
PRODID:-//uppcdm - ECPv6.15.20//NONSGML v1.0//EN
CALSCALE:GREGORIAN
METHOD:PUBLISH
X-ORIGINAL-URL:https://uppcdm.org
X-WR-CALDESC:Events for uppcdm
REFRESH-INTERVAL;VALUE=DURATION:PT1H
X-Robots-Tag:noindex
X-PUBLISHED-TTL:PT1H
BEGIN:VTIMEZONE
TZID:UTC
BEGIN:STANDARD
TZOFFSETFROM:+0000
TZOFFSETTO:+0000
TZNAME:UTC
DTSTART:20240101T000000
END:STANDARD
END:VTIMEZONE
BEGIN:VEVENT
DTSTART;VALUE=DATE:20251130
DTEND;VALUE=DATE:20251201
DTSTAMP:20260423T203325
CREATED:20251008T150816Z
LAST-MODIFIED:20251008T150816Z
UID:1038-1764460800-1764547199@uppcdm.org
SUMMARY:1st Sunday of Advent
DESCRIPTION:
URL:https://uppcdm.org/event/1st-sunday-of-advent/
LOCATION:Iowa
END:VEVENT
BEGIN:VEVENT
DTSTART;VALUE=DATE:20251130
DTEND;VALUE=DATE:20251201
DTSTAMP:20260423T203325
CREATED:20251022T143528Z
LAST-MODIFIED:20251022T143528Z
UID:1120-1764460800-1764547199@uppcdm.org
SUMMARY:Hope\, Peace\, Joy\, & Love
DESCRIPTION:
URL:https://uppcdm.org/event/hope-peace-joy-love/
LOCATION:Iowa
END:VEVENT
BEGIN:VEVENT
DTSTART;TZID=UTC:20251130T110000
DTEND;TZID=UTC:20251130T120000
DTSTAMP:20260423T203325
CREATED:20251008T134331Z
LAST-MODIFIED:20251008T135144Z
UID:1024-1764500400-1764504000@uppcdm.org
SUMMARY:Worship
DESCRIPTION:
URL:https://uppcdm.org/event/ciacug-office-open-8/
LOCATION:Union Park Presbyterian Church\, 1307 Thompson Ave.\, Des Moines\, Iowa
END:VEVENT
BEGIN:VEVENT
DTSTART;TZID=UTC:20251130T120000
DTEND;TZID=UTC:20251130T130000
DTSTAMP:20260423T203325
CREATED:20251008T150428Z
LAST-MODIFIED:20251008T150633Z
UID:1036-1764504000-1764507600@uppcdm.org
SUMMARY:Coffee Fellowship
DESCRIPTION:
URL:https://uppcdm.org/event/coffee-fellowship-28/
LOCATION:Iowa
END:VEVENT
END:VCALENDAR