BEGIN:VCALENDAR
VERSION:2.0
PRODID:-//uppcdm - ECPv6.15.20//NONSGML v1.0//EN
CALSCALE:GREGORIAN
METHOD:PUBLISH
X-WR-CALNAME:uppcdm
X-ORIGINAL-URL:https://uppcdm.org
X-WR-CALDESC:Events for uppcdm
REFRESH-INTERVAL;VALUE=DURATION:PT1H
X-Robots-Tag:noindex
X-PUBLISHED-TTL:PT1H
BEGIN:VTIMEZONE
TZID:UTC
BEGIN:STANDARD
TZOFFSETFROM:+0000
TZOFFSETTO:+0000
TZNAME:UTC
DTSTART:20240101T000000
END:STANDARD
END:VTIMEZONE
BEGIN:VEVENT
DTSTART;TZID=UTC:20251126T090000
DTEND;TZID=UTC:20251126T100000
DTSTAMP:20260423T220830
CREATED:20251008T154748Z
LAST-MODIFIED:20251008T154748Z
UID:1081-1764147600-1764151200@uppcdm.org
SUMMARY:Coffee/Fellowship
DESCRIPTION:
URL:https://uppcdm.org/event/coffee-fellowship-32/
LOCATION:Union Park Presbyterian Church Fellowship Hall\, 1307 Thompson Ave.\, Des Moines\, Iowa
END:VEVENT
BEGIN:VEVENT
DTSTART;TZID=UTC:20251126T110000
DTEND;TZID=UTC:20251126T120000
DTSTAMP:20260423T220830
CREATED:20251022T193130Z
LAST-MODIFIED:20251022T193130Z
UID:1147-1764154800-1764158400@uppcdm.org
SUMMARY:Coffee with Pastor Doug
DESCRIPTION:
URL:https://uppcdm.org/event/coffee-with-pastor-doug-5/
LOCATION:Slow Down Coffee Shop\, 3613 6th Avenue\, Des Moines\, Iowa
END:VEVENT
BEGIN:VEVENT
DTSTART;TZID=UTC:20251126T130000
DTEND;TZID=UTC:20251126T140000
DTSTAMP:20260423T220830
CREATED:20251008T154857Z
LAST-MODIFIED:20251022T144908Z
UID:1083-1764162000-1764165600@uppcdm.org
SUMMARY:Choir Rehearsal
DESCRIPTION:
URL:https://uppcdm.org/event/choir-rehearsal-615-pm/
LOCATION:Iowa
END:VEVENT
END:VCALENDAR