BEGIN:VCALENDAR
VERSION:2.0
PRODID:-//uppcdm - ECPv6.15.20//NONSGML v1.0//EN
CALSCALE:GREGORIAN
METHOD:PUBLISH
X-ORIGINAL-URL:https://uppcdm.org
X-WR-CALDESC:Events for uppcdm
REFRESH-INTERVAL;VALUE=DURATION:PT1H
X-Robots-Tag:noindex
X-PUBLISHED-TTL:PT1H
BEGIN:VTIMEZONE
TZID:UTC
BEGIN:STANDARD
TZOFFSETFROM:+0000
TZOFFSETTO:+0000
TZNAME:UTC
DTSTART:20240101T000000
END:STANDARD
END:VTIMEZONE
BEGIN:VEVENT
DTSTART;VALUE=DATE:20251123
DTEND;VALUE=DATE:20251124
DTSTAMP:20260423T220202
CREATED:20251022T143139Z
LAST-MODIFIED:20251022T143139Z
UID:1116-1763856000-1763942399@uppcdm.org
SUMMARY:24th Sunday after Pentecost
DESCRIPTION:
URL:https://uppcdm.org/event/24th-sunday-after-pentecost/
LOCATION:Iowa
END:VEVENT
BEGIN:VEVENT
DTSTART;TZID=UTC:20251123T110000
DTEND;TZID=UTC:20251123T120000
DTSTAMP:20260423T220202
CREATED:20251008T151552Z
LAST-MODIFIED:20251008T151552Z
UID:1046-1763895600-1763899200@uppcdm.org
SUMMARY:Worship Service
DESCRIPTION:
URL:https://uppcdm.org/event/worship-service-4/
LOCATION:Union Park Presbyterian Church\, 1307 Thompson Ave.\, Des Moines\, Iowa
END:VEVENT
BEGIN:VEVENT
DTSTART;TZID=UTC:20251123T120000
DTEND;TZID=UTC:20251123T130000
DTSTAMP:20260423T220202
CREATED:20251008T152041Z
LAST-MODIFIED:20251008T152041Z
UID:1052-1763899200-1763902800@uppcdm.org
SUMMARY:Coffee/ Snacks/Fellowship
DESCRIPTION:
URL:https://uppcdm.org/event/coffee-snacks-fellowship-4/
LOCATION:Iowa
END:VEVENT
END:VCALENDAR