BEGIN:VCALENDAR
VERSION:2.0
PRODID:-//uppcdm - ECPv6.15.20//NONSGML v1.0//EN
CALSCALE:GREGORIAN
METHOD:PUBLISH
X-ORIGINAL-URL:https://uppcdm.org
X-WR-CALDESC:Events for uppcdm
REFRESH-INTERVAL;VALUE=DURATION:PT1H
X-Robots-Tag:noindex
X-PUBLISHED-TTL:PT1H
BEGIN:VTIMEZONE
TZID:UTC
BEGIN:STANDARD
TZOFFSETFROM:+0000
TZOFFSETTO:+0000
TZNAME:UTC
DTSTART:20240101T000000
END:STANDARD
END:VTIMEZONE
BEGIN:VEVENT
DTSTART;TZID=UTC:20251118T190000
DTEND;TZID=UTC:20251118T200000
DTSTAMP:20260423T220829
CREATED:20251022T144147Z
LAST-MODIFIED:20251022T151936Z
UID:1122-1763492400-1763496000@uppcdm.org
SUMMARY:7:00 pm Thanksgiving Service Rehearsal
DESCRIPTION:
URL:https://uppcdm.org/event/7-pm-thanksgiving-service-rehearsal/
LOCATION:Grand View Lutheran Church\, 2930 E 13th St.\, Des Moines\, IA\, 50316\, United States
END:VEVENT
END:VCALENDAR