BEGIN:VCALENDAR
VERSION:2.0
PRODID:-//uppcdm - ECPv6.15.20//NONSGML v1.0//EN
CALSCALE:GREGORIAN
METHOD:PUBLISH
X-ORIGINAL-URL:https://uppcdm.org
X-WR-CALDESC:Events for uppcdm
REFRESH-INTERVAL;VALUE=DURATION:PT1H
X-Robots-Tag:noindex
X-PUBLISHED-TTL:PT1H
BEGIN:VTIMEZONE
TZID:UTC
BEGIN:STANDARD
TZOFFSETFROM:+0000
TZOFFSETTO:+0000
TZNAME:UTC
DTSTART:20240101T000000
END:STANDARD
END:VTIMEZONE
BEGIN:VEVENT
DTSTART;VALUE=DATE:20251116
DTEND;VALUE=DATE:20251117
DTSTAMP:20260423T220202
CREATED:20251022T143030Z
LAST-MODIFIED:20251022T143030Z
UID:1113-1763251200-1763337599@uppcdm.org
SUMMARY:23rd Sunday after Pentecost
DESCRIPTION:
URL:https://uppcdm.org/event/23rd-sunday-after-pentecost/
LOCATION:Iowa
END:VEVENT
BEGIN:VEVENT
DTSTART;TZID=UTC:20251116T103000
DTEND;TZID=UTC:20251116T123000
DTSTAMP:20260423T220202
CREATED:20251106T172443Z
LAST-MODIFIED:20251106T172443Z
UID:1231-1763289000-1763296200@uppcdm.org
SUMMARY:Donations for the Thanksgiving Food Drive
DESCRIPTION:
URL:https://uppcdm.org/event/donations-for-the-thanksgiving-food-drive-2/
LOCATION:Iowa
END:VEVENT
BEGIN:VEVENT
DTSTART;TZID=UTC:20251116T110000
DTEND;TZID=UTC:20251116T120000
DTSTAMP:20260423T220202
CREATED:20251008T151017Z
LAST-MODIFIED:20251008T151121Z
UID:1040-1763290800-1763294400@uppcdm.org
SUMMARY:Worship Service
DESCRIPTION:
URL:https://uppcdm.org/event/worship-service/
LOCATION:Union Park Presbyterian Church\, 1307 Thompson Ave.\, Des Moines\, Iowa
END:VEVENT
BEGIN:VEVENT
DTSTART;TZID=UTC:20251116T120000
DTEND;TZID=UTC:20251116T130000
DTSTAMP:20260423T220202
CREATED:20251008T152331Z
LAST-MODIFIED:20251008T152331Z
UID:1054-1763294400-1763298000@uppcdm.org
SUMMARY:Coffee/Snacks/Fellowship
DESCRIPTION:
URL:https://uppcdm.org/event/coffee-snacks-fellowship-5/
LOCATION:Iowa
END:VEVENT
BEGIN:VEVENT
DTSTART;TZID=UTC:20251116T120000
DTEND;TZID=UTC:20251116T130000
DTSTAMP:20260423T220202
CREATED:20251106T172722Z
LAST-MODIFIED:20251106T172722Z
UID:1233-1763294400-1763298000@uppcdm.org
SUMMARY:Congregational Meeting to select Edlers for 2026 Session\, Gifts & Memorials vacancy
DESCRIPTION:
URL:https://uppcdm.org/event/congregational-meeting-to-select-edlers-for-2026-session-gifts-memorials-vacancy/
LOCATION:Iowa
END:VEVENT
END:VCALENDAR