BEGIN:VCALENDAR
VERSION:2.0
PRODID:-//uppcdm - ECPv6.15.20//NONSGML v1.0//EN
CALSCALE:GREGORIAN
METHOD:PUBLISH
X-ORIGINAL-URL:https://uppcdm.org
X-WR-CALDESC:Events for uppcdm
REFRESH-INTERVAL;VALUE=DURATION:PT1H
X-Robots-Tag:noindex
X-PUBLISHED-TTL:PT1H
BEGIN:VTIMEZONE
TZID:UTC
BEGIN:STANDARD
TZOFFSETFROM:+0000
TZOFFSETTO:+0000
TZNAME:UTC
DTSTART:20240101T000000
END:STANDARD
END:VTIMEZONE
BEGIN:VEVENT
DTSTART;TZID=UTC:20251006T183000
DTEND;TZID=UTC:20251006T200000
DTSTAMP:20260423T234221
CREATED:20250917T151855Z
LAST-MODIFIED:20250917T151855Z
UID:886-1759775400-1759780800@uppcdm.org
SUMMARY:Book Club
DESCRIPTION:“Wisdom of Sally Red Shoes” by Ruth Hogan. Oct 6\, 2025 @ 630 P.M. Union Park Presbyterian Church. All are Welcome.
URL:https://uppcdm.org/event/book-club-2/
LOCATION:Iowa
END:VEVENT
END:VCALENDAR